BEGIN:VCALENDAR
VERSION:2.0
PRODID:-//MOBILE CPR - ECPv5.14.1//NONSGML v1.0//EN
CALSCALE:GREGORIAN
METHOD:PUBLISH
X-WR-CALNAME:MOBILE CPR
X-ORIGINAL-URL:https://themobilecprproject.com
X-WR-CALDESC:Events for MOBILE CPR
REFRESH-INTERVAL;VALUE=DURATION:PT1H
X-Robots-Tag:noindex
X-PUBLISHED-TTL:PT1H
BEGIN:VTIMEZONE
TZID:UTC
BEGIN:STANDARD
TZOFFSETFROM:+0000
TZOFFSETTO:+0000
TZNAME:UTC
DTSTART:20250101T000000
END:STANDARD
END:VTIMEZONE
BEGIN:VEVENT
DTSTART;TZID=UTC:20250301T110000
DTEND;TZID=UTC:20250301T130000
DTSTAMP:20260424T115109
CREATED:20250220T181541Z
LAST-MODIFIED:20250220T181541Z
UID:3178-1740826800-1740834000@themobilecprproject.com
SUMMARY:Spectrum Health
DESCRIPTION:Open to the public! \n5201 Haverford Ave\, Philadelphia\, PA 19139
URL:https://themobilecprproject.com/event/spectrum-health/
END:VEVENT
BEGIN:VEVENT
DTSTART;TZID=UTC:20250301T140000
DTEND;TZID=UTC:20250301T160000
DTSTAMP:20260424T115109
CREATED:20250220T181503Z
LAST-MODIFIED:20250220T181503Z
UID:3175-1740837600-1740844800@themobilecprproject.com
SUMMARY:Walnut Street West Library
DESCRIPTION:Open to the public! \n201 S 40th St
URL:https://themobilecprproject.com/event/walnut-street-west-library/
END:VEVENT
BEGIN:VEVENT
DTSTART;TZID=UTC:20250302T163000
DTEND;TZID=UTC:20250302T173000
DTSTAMP:20260424T115109
CREATED:20250220T181612Z
LAST-MODIFIED:20250220T181612Z
UID:3181-1740933000-1740936600@themobilecprproject.com
SUMMARY:Lambda Kappa Omega Inc. Sorority Alpha Chapter
DESCRIPTION:Not open to the public
URL:https://themobilecprproject.com/event/lambda-kappa-omega-inc-sorority-alpha-chapter/
END:VEVENT
BEGIN:VEVENT
DTSTART;TZID=UTC:20250308T110000
DTEND;TZID=UTC:20250308T123000
DTSTAMP:20260424T115109
CREATED:20250220T181650Z
LAST-MODIFIED:20250220T181650Z
UID:3184-1741431600-1741437000@themobilecprproject.com
SUMMARY:Cancer Support Community Greater Philadelphia
DESCRIPTION:Open to the public! \n4100 Chamounix Drive\, Philadelphia\, PA 19131
URL:https://themobilecprproject.com/event/cancer-support-community-greater-philadelphia/
END:VEVENT
BEGIN:VEVENT
DTSTART;TZID=UTC:20250311T110000
DTEND;TZID=UTC:20250311T150000
DTSTAMP:20260424T115109
CREATED:20250220T181725Z
LAST-MODIFIED:20250220T181725Z
UID:3187-1741690800-1741705200@themobilecprproject.com
SUMMARY:Temple University Pre-Health Resource Fair
DESCRIPTION:Open to the public! \nTemple University Campus
URL:https://themobilecprproject.com/event/temple-university-pre-health-resource-fair/
END:VEVENT
BEGIN:VEVENT
DTSTART;TZID=UTC:20250317T103000
DTEND;TZID=UTC:20250317T113000
DTSTAMP:20260424T115109
CREATED:20250220T181801Z
LAST-MODIFIED:20250220T181801Z
UID:3190-1742207400-1742211000@themobilecprproject.com
SUMMARY:Better Tomorrows
DESCRIPTION:Not open to the public
URL:https://themobilecprproject.com/event/better-tomorrows/
END:VEVENT
BEGIN:VEVENT
DTSTART;TZID=UTC:20250319T183000
DTEND;TZID=UTC:20250319T193000
DTSTAMP:20260424T115109
CREATED:20250220T181844Z
LAST-MODIFIED:20250220T181844Z
UID:3193-1742409000-1742412600@themobilecprproject.com
SUMMARY:Haverford YMCA
DESCRIPTION:Open to the public! \n891 N Eagle Rd\, Havertown\, PA 19083
URL:https://themobilecprproject.com/event/haverford-ymca-7/
END:VEVENT
BEGIN:VEVENT
DTSTART;TZID=UTC:20250325T090000
DTEND;TZID=UTC:20250325T100000
DTSTAMP:20260424T115109
CREATED:20250220T181916Z
LAST-MODIFIED:20250220T181916Z
UID:3196-1742893200-1742896800@themobilecprproject.com
SUMMARY:MDO-Community Services Cluster  Casarez Elementary School (SPANISH)
DESCRIPTION:Not open to the public
URL:https://themobilecprproject.com/event/mdo-community-services-cluster-casarez-elementary-school-spanish/
END:VEVENT
END:VCALENDAR