BEGIN:VCALENDAR
VERSION:2.0
PRODID:-//MOBILE CPR - ECPv5.14.1//NONSGML v1.0//EN
CALSCALE:GREGORIAN
METHOD:PUBLISH
X-WR-CALNAME:MOBILE CPR
X-ORIGINAL-URL:https://themobilecprproject.com
X-WR-CALDESC:Events for MOBILE CPR
REFRESH-INTERVAL;VALUE=DURATION:PT1H
X-Robots-Tag:noindex
X-PUBLISHED-TTL:PT1H
BEGIN:VTIMEZONE
TZID:UTC
BEGIN:STANDARD
TZOFFSETFROM:+0000
TZOFFSETTO:+0000
TZNAME:UTC
DTSTART:20240101T000000
END:STANDARD
END:VTIMEZONE
BEGIN:VEVENT
DTSTART;TZID=UTC:20240709T100000
DTEND;TZID=UTC:20240709T110000
DTSTAMP:20260424T220638
CREATED:20240610T205006Z
LAST-MODIFIED:20240610T205006Z
UID:2888-1720519200-1720522800@themobilecprproject.com
SUMMARY:Parkway Central Library
DESCRIPTION:Open to the public! \n1901 Vine St
URL:https://themobilecprproject.com/event/parkway-central-library-3/
END:VEVENT
BEGIN:VEVENT
DTSTART;TZID=UTC:20240711T100000
DTEND;TZID=UTC:20240711T113000
DTSTAMP:20260424T220638
CREATED:20240701T125428Z
LAST-MODIFIED:20240701T125428Z
UID:2915-1720692000-1720697400@themobilecprproject.com
SUMMARY:Career and College Readiness Internship
DESCRIPTION:Not open to the public
URL:https://themobilecprproject.com/event/career-and-college-readiness-internship/
END:VEVENT
BEGIN:VEVENT
DTSTART;TZID=UTC:20240713T110000
DTEND;TZID=UTC:20240713T160000
DTSTAMP:20260424T220638
CREATED:20240610T205049Z
LAST-MODIFIED:20240610T205049Z
UID:2891-1720868400-1720886400@themobilecprproject.com
SUMMARY:Tri-Borough Delaware County Health Block Party
DESCRIPTION:Open to the public! \n300 Calcon Hook Rd\, Sharon Hill\, PA 19079
URL:https://themobilecprproject.com/event/tri-borough-delaware-county-health-block-party/
END:VEVENT
BEGIN:VEVENT
DTSTART;TZID=UTC:20240714T100000
DTEND;TZID=UTC:20240714T140000
DTSTAMP:20260424T220638
CREATED:20240610T205119Z
LAST-MODIFIED:20240610T205119Z
UID:2894-1720951200-1720965600@themobilecprproject.com
SUMMARY:Bowen Family Reunion
DESCRIPTION:Not open to the public
URL:https://themobilecprproject.com/event/bowen-family-reunion/
END:VEVENT
BEGIN:VEVENT
DTSTART;TZID=UTC:20240718T190000
DTEND;TZID=UTC:20240718T210000
DTSTAMP:20260424T220638
CREATED:20240701T125531Z
LAST-MODIFIED:20240701T125531Z
UID:2918-1721329200-1721336400@themobilecprproject.com
SUMMARY:Community of Compassion CDC
DESCRIPTION:Open to the public! \n6150 Cedar Ave Philadelphia\, PA 19143
URL:https://themobilecprproject.com/event/community-of-compassion-cdc/
END:VEVENT
BEGIN:VEVENT
DTSTART;TZID=UTC:20240720T100000
DTEND;TZID=UTC:20240720T160000
DTSTAMP:20260424T220638
CREATED:20240610T205158Z
LAST-MODIFIED:20240610T205158Z
UID:2897-1721469600-1721491200@themobilecprproject.com
SUMMARY:Belfield Day
DESCRIPTION:Open to the public! \n2109 W Chew Ave\, Philadelphia\, PA 19138
URL:https://themobilecprproject.com/event/belfield-day/
END:VEVENT
BEGIN:VEVENT
DTSTART;TZID=UTC:20240722T130000
DTEND;TZID=UTC:20240722T150000
DTSTAMP:20260424T220638
CREATED:20240610T205303Z
LAST-MODIFIED:20240610T205303Z
UID:2900-1721653200-1721660400@themobilecprproject.com
SUMMARY:Congreso
DESCRIPTION:Not open to the public
URL:https://themobilecprproject.com/event/congreso/
END:VEVENT
BEGIN:VEVENT
DTSTART;TZID=UTC:20240724T090000
DTEND;TZID=UTC:20240724T130000
DTSTAMP:20260424T220638
CREATED:20240701T125639Z
LAST-MODIFIED:20240701T125639Z
UID:2921-1721811600-1721826000@themobilecprproject.com
SUMMARY:Philadelphia Parks and Rec
DESCRIPTION:Not open to the public
URL:https://themobilecprproject.com/event/philadelphia-parks-and-rec-2/
END:VEVENT
BEGIN:VEVENT
DTSTART;TZID=UTC:20240727T110000
DTEND;TZID=UTC:20240727T150000
DTSTAMP:20260424T220638
CREATED:20240701T125739Z
LAST-MODIFIED:20240701T125739Z
UID:2924-1722078000-1722092400@themobilecprproject.com
SUMMARY:United Block Captains Block Party
DESCRIPTION:Open to the public! \n4000 Block of Poplar Street
URL:https://themobilecprproject.com/event/united-block-captains-block-party/
END:VEVENT
BEGIN:VEVENT
DTSTART;TZID=UTC:20240728T140000
DTEND;TZID=UTC:20240728T150000
DTSTAMP:20260424T220638
CREATED:20240701T125813Z
LAST-MODIFIED:20240701T125813Z
UID:2927-1722175200-1722178800@themobilecprproject.com
SUMMARY:Brewerytown Garden
DESCRIPTION:Not open to the public
URL:https://themobilecprproject.com/event/brewerytown-garden-2/
END:VEVENT
END:VCALENDAR