BEGIN:VCALENDAR
VERSION:2.0
PRODID:-//MOBILE CPR - ECPv5.14.1//NONSGML v1.0//EN
CALSCALE:GREGORIAN
METHOD:PUBLISH
X-WR-CALNAME:MOBILE CPR
X-ORIGINAL-URL:https://themobilecprproject.com
X-WR-CALDESC:Events for MOBILE CPR
REFRESH-INTERVAL;VALUE=DURATION:PT1H
X-Robots-Tag:noindex
X-PUBLISHED-TTL:PT1H
BEGIN:VTIMEZONE
TZID:UTC
BEGIN:STANDARD
TZOFFSETFROM:+0000
TZOFFSETTO:+0000
TZNAME:UTC
DTSTART:20240101T000000
END:STANDARD
END:VTIMEZONE
BEGIN:VEVENT
DTSTART;TZID=UTC:20240402T170000
DTEND;TZID=UTC:20240402T180000
DTSTAMP:20260425T154439
CREATED:20240408T124240Z
LAST-MODIFIED:20240408T124352Z
UID:2687-1712077200-1712080800@themobilecprproject.com
SUMMARY:Wynnefield Library
DESCRIPTION:Open to the public! \n5325 Overbrook Ave\, Philadelphia\, PA 19131
URL:https://themobilecprproject.com/event/wynnefield-library-6/
END:VEVENT
BEGIN:VEVENT
DTSTART;TZID=UTC:20240411T153000
DTEND;TZID=UTC:20240411T163000
DTSTAMP:20260425T154439
CREATED:20240408T124330Z
LAST-MODIFIED:20240408T124330Z
UID:2690-1712849400-1712853000@themobilecprproject.com
SUMMARY:Legal Clinic for the Disabled
DESCRIPTION:Not open to the public
URL:https://themobilecprproject.com/event/legal-clinic-for-the-disabled-2/
END:VEVENT
BEGIN:VEVENT
DTSTART;TZID=UTC:20240412T180000
DTEND;TZID=UTC:20240412T190000
DTSTAMP:20260425T154439
CREATED:20240408T124442Z
LAST-MODIFIED:20240408T124442Z
UID:2695-1712944800-1712948400@themobilecprproject.com
SUMMARY:Norf Side Buccs
DESCRIPTION:Not open to the public
URL:https://themobilecprproject.com/event/norf-side-buccs/
END:VEVENT
BEGIN:VEVENT
DTSTART;TZID=UTC:20240413T120000
DTEND;TZID=UTC:20240413T160000
DTSTAMP:20260425T154439
CREATED:20240408T124521Z
LAST-MODIFIED:20240408T124521Z
UID:2698-1713009600-1713024000@themobilecprproject.com
SUMMARY:Health in Action Festival
DESCRIPTION:Open to the public! \nVernon Park\, 5800 Germantown Ave
URL:https://themobilecprproject.com/event/health-in-action-festival/
END:VEVENT
BEGIN:VEVENT
DTSTART;TZID=UTC:20240416T180000
DTEND;TZID=UTC:20240416T190000
DTSTAMP:20260425T154439
CREATED:20240408T124619Z
LAST-MODIFIED:20240408T124619Z
UID:2701-1713290400-1713294000@themobilecprproject.com
SUMMARY:Spring Valley YMCA
DESCRIPTION:Open to the public! \n19 W Linfield Trappe Road
URL:https://themobilecprproject.com/event/spring-valley-ymca-4/
END:VEVENT
BEGIN:VEVENT
DTSTART;TZID=UTC:20240417T000000
DTEND;TZID=UTC:20240417T000000
DTSTAMP:20260425T154439
CREATED:20240417T125620Z
LAST-MODIFIED:20240417T125620Z
UID:2784-1713312000-1713312000@themobilecprproject.com
SUMMARY:Testing
DESCRIPTION:test@test.com
URL:https://themobilecprproject.com/event/testing/
LOCATION:Unnamed Venue\, 2431 W lehigh ave\, Philadelphia\, PA 19132\, United States\, Philadelphia\, PA\, 19132
END:VEVENT
BEGIN:VEVENT
DTSTART;TZID=UTC:20240417T163000
DTEND;TZID=UTC:20240417T173000
DTSTAMP:20260425T154439
CREATED:20240408T124715Z
LAST-MODIFIED:20240408T124715Z
UID:2704-1713371400-1713375000@themobilecprproject.com
SUMMARY:McClure Elementary School
DESCRIPTION:Open to the public! \n600 W Hunting Park Ave
URL:https://themobilecprproject.com/event/mcclure-elementary-school/
END:VEVENT
BEGIN:VEVENT
DTSTART;TZID=UTC:20240419T120000
DTEND;TZID=UTC:20240419T130000
DTSTAMP:20260425T154439
CREATED:20240408T124805Z
LAST-MODIFIED:20240408T124805Z
UID:2707-1713528000-1713531600@themobilecprproject.com
SUMMARY:Lutheran Settlement House
DESCRIPTION:Open to the public! \nLocation: TBD
URL:https://themobilecprproject.com/event/lutheran-settlement-house/
END:VEVENT
BEGIN:VEVENT
DTSTART;TZID=UTC:20240420T120000
DTEND;TZID=UTC:20240420T160000
DTSTAMP:20260425T154439
CREATED:20240408T124844Z
LAST-MODIFIED:20240408T124844Z
UID:2710-1713614400-1713628800@themobilecprproject.com
SUMMARY:Healthy Kids Day - West Philly YMCA
DESCRIPTION:Open to the public! \nLocation: TBD
URL:https://themobilecprproject.com/event/healthy-kids-day-west-philly-ymca/
END:VEVENT
BEGIN:VEVENT
DTSTART;TZID=UTC:20240422T140000
DTEND;TZID=UTC:20240422T170000
DTSTAMP:20260425T154439
CREATED:20240408T124931Z
LAST-MODIFIED:20240408T124931Z
UID:2713-1713794400-1713805200@themobilecprproject.com
SUMMARY:All Things S.T.E.A.M. Mapping Career Day - Congreso
DESCRIPTION:Open to the public! \n2800 N. American Street
URL:https://themobilecprproject.com/event/all-things-s-t-e-a-m-mapping-career-day-congreso/
END:VEVENT
BEGIN:VEVENT
DTSTART;TZID=UTC:20240426T183000
DTEND;TZID=UTC:20240426T193000
DTSTAMP:20260425T154439
CREATED:20240424T112635Z
LAST-MODIFIED:20240424T112635Z
UID:2800-1714156200-1714159800@themobilecprproject.com
SUMMARY:STEAM Event - Lower Gwynedd Elementary
DESCRIPTION:Open to the public! \n571 Houston Rd\, Lower Gwynedd Township\, PA 19002
URL:https://themobilecprproject.com/event/steam-event-lower-gwynedd-elementary/
END:VEVENT
BEGIN:VEVENT
DTSTART;TZID=UTC:20240427T103000
DTEND;TZID=UTC:20240427T113000
DTSTAMP:20260425T154439
CREATED:20240408T125015Z
LAST-MODIFIED:20240408T125015Z
UID:2716-1714213800-1714217400@themobilecprproject.com
SUMMARY:House of Glory
DESCRIPTION:Open to the public! \n5245 Germantown Ave
URL:https://themobilecprproject.com/event/house-of-glory/
END:VEVENT
END:VCALENDAR