BEGIN:VCALENDAR
VERSION:2.0
PRODID:-//MOBILE CPR - ECPv5.14.1//NONSGML v1.0//EN
CALSCALE:GREGORIAN
METHOD:PUBLISH
X-WR-CALNAME:MOBILE CPR
X-ORIGINAL-URL:https://themobilecprproject.com
X-WR-CALDESC:Events for MOBILE CPR
REFRESH-INTERVAL;VALUE=DURATION:PT1H
X-Robots-Tag:noindex
X-PUBLISHED-TTL:PT1H
BEGIN:VTIMEZONE
TZID:UTC
BEGIN:STANDARD
TZOFFSETFROM:+0000
TZOFFSETTO:+0000
TZNAME:UTC
DTSTART:20230101T000000
END:STANDARD
END:VTIMEZONE
BEGIN:VEVENT
DTSTART;TZID=UTC:20231101T143000
DTEND;TZID=UTC:20231101T153000
DTSTAMP:20260425T223451
CREATED:20231002T182413Z
LAST-MODIFIED:20231024T165522Z
UID:2158-1698849000-1698852600@themobilecprproject.com
SUMMARY:Philadelphia Touch Museum CPR Training
DESCRIPTION:
URL:https://themobilecprproject.com/event/philadelphia-touch-museum-cpr-training/
LOCATION:Philadelphia Touch Museum\, 4231 Avenue of the Republic\, Philadelphia\, PA\, 19131\, United States
END:VEVENT
BEGIN:VEVENT
DTSTART;TZID=UTC:20231103T090000
DTEND;TZID=UTC:20231103T100000
DTSTAMP:20260425T223452
CREATED:20231002T182739Z
LAST-MODIFIED:20231024T165542Z
UID:2166-1699002000-1699005600@themobilecprproject.com
SUMMARY:Philadelphia Parks and Recreation CPR Training
DESCRIPTION:
URL:https://themobilecprproject.com/event/philadelphia-parks-and-recreation-cpr-training-2/
LOCATION:Philadelphia Parks and Recreation
END:VEVENT
BEGIN:VEVENT
DTSTART;TZID=UTC:20231107T170000
DTEND;TZID=UTC:20231107T180000
DTSTAMP:20260425T223452
CREATED:20231004T004157Z
LAST-MODIFIED:20231024T165600Z
UID:2188-1699376400-1699380000@themobilecprproject.com
SUMMARY:Wynnefield Library CPR Training
DESCRIPTION:
URL:https://themobilecprproject.com/event/wynnefield-library-cpr-training/
LOCATION:Wynnefield Library
END:VEVENT
BEGIN:VEVENT
DTSTART;TZID=UTC:20231116T113000
DTEND;TZID=UTC:20231116T123000
DTSTAMP:20260425T223452
CREATED:20231002T182920Z
LAST-MODIFIED:20231024T165621Z
UID:2169-1700134200-1700137800@themobilecprproject.com
SUMMARY:Cancer Support Community Greater Philadelphia CPR Training
DESCRIPTION:
URL:https://themobilecprproject.com/event/cancer-support-community-greater-philadelphia-cpr-training/
END:VEVENT
BEGIN:VEVENT
DTSTART;TZID=UTC:20231117T120000
DTEND;TZID=UTC:20231117T130000
DTSTAMP:20260425T223452
CREATED:20231120T171537Z
LAST-MODIFIED:20231120T171537Z
UID:2274-1700222400-1700226000@themobilecprproject.com
SUMMARY:Puentes de Salud
DESCRIPTION:Closed to the public
URL:https://themobilecprproject.com/event/puentes-de-salud-4/
END:VEVENT
END:VCALENDAR