BEGIN:VCALENDAR
VERSION:2.0
PRODID:-//MOBILE CPR - ECPv5.14.1//NONSGML v1.0//EN
CALSCALE:GREGORIAN
METHOD:PUBLISH
X-WR-CALNAME:MOBILE CPR
X-ORIGINAL-URL:https://themobilecprproject.com
X-WR-CALDESC:Events for MOBILE CPR
REFRESH-INTERVAL;VALUE=DURATION:PT1H
X-Robots-Tag:noindex
X-PUBLISHED-TTL:PT1H
BEGIN:VTIMEZONE
TZID:UTC
BEGIN:STANDARD
TZOFFSETFROM:+0000
TZOFFSETTO:+0000
TZNAME:UTC
DTSTART:20240101T000000
END:STANDARD
END:VTIMEZONE
BEGIN:VEVENT
DTSTART;TZID=UTC:20250123T173000
DTEND;TZID=UTC:20250123T183000
DTSTAMP:20260425T123934
CREATED:20250107T174101Z
LAST-MODIFIED:20250107T174101Z
UID:3105-1737653400-1737657000@themobilecprproject.com
SUMMARY:Global Leadership Academy
DESCRIPTION:Not open to the public
URL:https://themobilecprproject.com/event/global-leadership-academy/
END:VEVENT
BEGIN:VEVENT
DTSTART;TZID=UTC:20250120T090000
DTEND;TZID=UTC:20250120T130000
DTSTAMP:20260425T123934
CREATED:20250107T174030Z
LAST-MODIFIED:20250107T174030Z
UID:3102-1737363600-1737378000@themobilecprproject.com
SUMMARY:2025 MLK Day of Service
DESCRIPTION:Open to the public! \n5732 Race St
URL:https://themobilecprproject.com/event/2025-mlk-day-of-service/
END:VEVENT
BEGIN:VEVENT
DTSTART;TZID=UTC:20250115T183000
DTEND;TZID=UTC:20250115T193000
DTSTAMP:20260425T123934
CREATED:20250107T173957Z
LAST-MODIFIED:20250107T173957Z
UID:3099-1736965800-1736969400@themobilecprproject.com
SUMMARY:Haverford YMCA
DESCRIPTION:Open to the public! \n891 N Eagle Rd\, Havertown\, PA 19083
URL:https://themobilecprproject.com/event/haverford-ymca-5/
END:VEVENT
BEGIN:VEVENT
DTSTART;TZID=UTC:20241218T183000
DTEND;TZID=UTC:20241218T193000
DTSTAMP:20260425T123934
CREATED:20241004T134844Z
LAST-MODIFIED:20241004T134844Z
UID:3072-1734546600-1734550200@themobilecprproject.com
SUMMARY:Haverford YMCA
DESCRIPTION:Open to the public! \n891 N Eagle Rd\, Havertown\, PA 19083
URL:https://themobilecprproject.com/event/haverford-ymca-4/
END:VEVENT
BEGIN:VEVENT
DTSTART;TZID=UTC:20241214T150000
DTEND;TZID=UTC:20241214T180000
DTSTAMP:20260425T123934
CREATED:20241101T200042Z
LAST-MODIFIED:20241101T200042Z
UID:3089-1734188400-1734199200@themobilecprproject.com
SUMMARY:Temple University Saturday Sports Camp
DESCRIPTION:Not open to the public
URL:https://themobilecprproject.com/event/temple-university-saturday-sports-camp/
END:VEVENT
BEGIN:VEVENT
DTSTART;TZID=UTC:20241213T090000
DTEND;TZID=UTC:20241213T170000
DTSTAMP:20260425T123934
CREATED:20241101T200004Z
LAST-MODIFIED:20241101T200004Z
UID:3086-1734080400-1734109200@themobilecprproject.com
SUMMARY:School District of Philadelphia
DESCRIPTION:Not open to the public
URL:https://themobilecprproject.com/event/school-district-of-philadelphia/
END:VEVENT
BEGIN:VEVENT
DTSTART;TZID=UTC:20241210T100000
DTEND;TZID=UTC:20241210T110000
DTSTAMP:20260425T123934
CREATED:20241004T134809Z
LAST-MODIFIED:20241004T134809Z
UID:3069-1733824800-1733828400@themobilecprproject.com
SUMMARY:Parkway Central Library
DESCRIPTION:Open to the public! \n1901 Vine St
URL:https://themobilecprproject.com/event/parkway-central-library-6/
END:VEVENT
BEGIN:VEVENT
DTSTART;TZID=UTC:20241205T113000
DTEND;TZID=UTC:20241205T123000
DTSTAMP:20260425T123934
CREATED:20241202T155200Z
LAST-MODIFIED:20241202T155200Z
UID:3095-1733398200-1733401800@themobilecprproject.com
SUMMARY:Locust Walk Tabling Event
DESCRIPTION:Open to the public! \nLocust Walk\, University of Pennsylvania
URL:https://themobilecprproject.com/event/locust-walk-tabling-event/
END:VEVENT
BEGIN:VEVENT
DTSTART;TZID=UTC:20241125T143000
DTEND;TZID=UTC:20241125T183000
DTSTAMP:20260425T123934
CREATED:20241101T195745Z
LAST-MODIFIED:20241101T195745Z
UID:3080-1732545000-1732559400@themobilecprproject.com
SUMMARY:Council Rock High School South
DESCRIPTION:Not open to the public
URL:https://themobilecprproject.com/event/council-rock-high-school-south/
END:VEVENT
BEGIN:VEVENT
DTSTART;TZID=UTC:20241122T110000
DTEND;TZID=UTC:20241122T120000
DTSTAMP:20260425T123934
CREATED:20241004T134720Z
LAST-MODIFIED:20241004T134720Z
UID:3066-1732273200-1732276800@themobilecprproject.com
SUMMARY:Firehouse Active Adult Center
DESCRIPTION:Not open to the public
URL:https://themobilecprproject.com/event/firehouse-active-adult-center-3/
END:VEVENT
BEGIN:VEVENT
DTSTART;TZID=UTC:20241120T183000
DTEND;TZID=UTC:20241120T193000
DTSTAMP:20260425T123934
CREATED:20241004T134654Z
LAST-MODIFIED:20241004T134654Z
UID:3063-1732127400-1732131000@themobilecprproject.com
SUMMARY:Haverford YMCA
DESCRIPTION:Open to the public! \n891 N Eagle Rd\, Havertown\, PA 19083
URL:https://themobilecprproject.com/event/haverford-ymca-3/
END:VEVENT
BEGIN:VEVENT
DTSTART;TZID=UTC:20241116T150000
DTEND;TZID=UTC:20241116T180000
DTSTAMP:20260425T123934
CREATED:20241101T195906Z
LAST-MODIFIED:20241101T195906Z
UID:3083-1731769200-1731780000@themobilecprproject.com
SUMMARY:Temple University Satruday Sports Camp
DESCRIPTION:Not open to the public
URL:https://themobilecprproject.com/event/temple-university-satruday-sports-camp/
END:VEVENT
BEGIN:VEVENT
DTSTART;TZID=UTC:20241109T103000
DTEND;TZID=UTC:20241109T113000
DTSTAMP:20260425T123934
CREATED:20241004T134613Z
LAST-MODIFIED:20241004T134613Z
UID:3060-1731148200-1731151800@themobilecprproject.com
SUMMARY:The Preserve at Marsh Creek
DESCRIPTION:Not open to the public
URL:https://themobilecprproject.com/event/the-preserve-at-marsh-creek-2/
END:VEVENT
BEGIN:VEVENT
DTSTART;TZID=UTC:20241108T100000
DTEND;TZID=UTC:20241108T110000
DTSTAMP:20260425T123934
CREATED:20241004T134510Z
LAST-MODIFIED:20241004T134510Z
UID:3057-1731060000-1731063600@themobilecprproject.com
SUMMARY:Parkway Central Library
DESCRIPTION:Open to the public! \n1901 Vine St
URL:https://themobilecprproject.com/event/parkway-central-library-5/
END:VEVENT
BEGIN:VEVENT
DTSTART;TZID=UTC:20241031T113000
DTEND;TZID=UTC:20241031T123000
DTSTAMP:20260425T123934
CREATED:20241028T172638Z
LAST-MODIFIED:20241028T172638Z
UID:3077-1730374200-1730377800@themobilecprproject.com
SUMMARY:Tabling Event on Locust
DESCRIPTION:Not open to the public
URL:https://themobilecprproject.com/event/tabling-event-on-locust/
END:VEVENT
BEGIN:VEVENT
DTSTART;TZID=UTC:20241029T110000
DTEND;TZID=UTC:20241029T130000
DTSTAMP:20260425T123934
CREATED:20241004T134412Z
LAST-MODIFIED:20241004T134412Z
UID:3054-1730199600-1730206800@themobilecprproject.com
SUMMARY:Baby Shower - Catholic Social Services - The Northeast Family Service Center
DESCRIPTION:Open to the public! \n7340 Jackson Street Philadelphia\, Pa 19136
URL:https://themobilecprproject.com/event/baby-shower-catholic-social-services-the-northeast-family-service-center/
END:VEVENT
BEGIN:VEVENT
DTSTART;TZID=UTC:20241029T093000
DTEND;TZID=UTC:20241029T103000
DTSTAMP:20260425T123934
CREATED:20240913T174340Z
LAST-MODIFIED:20240913T174340Z
UID:3025-1730194200-1730197800@themobilecprproject.com
SUMMARY:Office of Homeless Services
DESCRIPTION:Not open to the public
URL:https://themobilecprproject.com/event/office-of-homeless-services/
END:VEVENT
BEGIN:VEVENT
DTSTART;TZID=UTC:20241024T150000
DTEND;TZID=UTC:20241024T160000
DTSTAMP:20260425T123934
CREATED:20241004T134316Z
LAST-MODIFIED:20241004T134316Z
UID:3051-1729782000-1729785600@themobilecprproject.com
SUMMARY:St. Joseph University
DESCRIPTION:Not open to the public
URL:https://themobilecprproject.com/event/st-joseph-university/
END:VEVENT
BEGIN:VEVENT
DTSTART;TZID=UTC:20241023T100000
DTEND;TZID=UTC:20241023T140000
DTSTAMP:20260425T123934
CREATED:20240913T174304Z
LAST-MODIFIED:20241004T134224Z
UID:3022-1729677600-1729692000@themobilecprproject.com
SUMMARY:Community Friendship Health Day - St Edmond's Church
DESCRIPTION:Open to the public! \n2130 S 21st St Second Floor\, Philadelphia\, PA 19145
URL:https://themobilecprproject.com/event/st-edmonds-church/
END:VEVENT
BEGIN:VEVENT
DTSTART;TZID=UTC:20241019T160000
DTEND;TZID=UTC:20241019T170000
DTSTAMP:20260425T123934
CREATED:20240913T174101Z
LAST-MODIFIED:20241004T133907Z
UID:3013-1729353600-1729357200@themobilecprproject.com
SUMMARY:UPenn RAs
DESCRIPTION:Not open to the public
URL:https://themobilecprproject.com/event/upenn-ras/
END:VEVENT
BEGIN:VEVENT
DTSTART;TZID=UTC:20241019T120000
DTEND;TZID=UTC:20241019T140000
DTSTAMP:20260425T123934
CREATED:20241004T134118Z
LAST-MODIFIED:20241004T134118Z
UID:3047-1729339200-1729346400@themobilecprproject.com
SUMMARY:Transfiguration Baptist Church
DESCRIPTION:Open to the public! \n3732 Fairmount Ave\, Philadelphia\, PA 19104
URL:https://themobilecprproject.com/event/transfiguration-baptist-church/
END:VEVENT
BEGIN:VEVENT
DTSTART;TZID=UTC:20241017T103000
DTEND;TZID=UTC:20241017T113000
DTSTAMP:20260425T123934
CREATED:20241004T134014Z
LAST-MODIFIED:20241004T134014Z
UID:3044-1729161000-1729164600@themobilecprproject.com
SUMMARY:St Edmond's Church
DESCRIPTION:Open to the public! \n2130 S 21st St Second Floor\, Philadelphia\, PA 19145
URL:https://themobilecprproject.com/event/st-edmonds-church-2/
END:VEVENT
BEGIN:VEVENT
DTSTART;TZID=UTC:20241016T183000
DTEND;TZID=UTC:20241016T193000
DTSTAMP:20260425T123934
CREATED:20240913T174214Z
LAST-MODIFIED:20240913T174214Z
UID:3019-1729103400-1729107000@themobilecprproject.com
SUMMARY:Haverford YMCA
DESCRIPTION:Open to the public! \n891 N Eagle Rd\, Havertown\, PA 19083
URL:https://themobilecprproject.com/event/haverford-ymca-2/
END:VEVENT
BEGIN:VEVENT
DTSTART;TZID=UTC:20241014T170000
DTEND;TZID=UTC:20241014T190000
DTSTAMP:20260425T123934
CREATED:20240913T174139Z
LAST-MODIFIED:20240913T174139Z
UID:3016-1728925200-1728932400@themobilecprproject.com
SUMMARY:Fire Prevention & Life Safety Expo
DESCRIPTION:Open to the public!
URL:https://themobilecprproject.com/event/fire-prevention-life-safety-expo/
END:VEVENT
BEGIN:VEVENT
DTSTART;TZID=UTC:20241009T100000
DTEND;TZID=UTC:20241009T110000
DTSTAMP:20260425T123934
CREATED:20241004T133818Z
LAST-MODIFIED:20241004T133818Z
UID:3039-1728468000-1728471600@themobilecprproject.com
SUMMARY:Juvenile Diversion Programs - Philadelphia District Attorney's Office
DESCRIPTION:Not open to the public
URL:https://themobilecprproject.com/event/juvenile-diversion-programs-philadelphia-district-attorneys-office/
END:VEVENT
BEGIN:VEVENT
DTSTART;TZID=UTC:20241005T100000
DTEND;TZID=UTC:20241005T160000
DTSTAMP:20260425T123934
CREATED:20240913T174032Z
LAST-MODIFIED:20240913T174032Z
UID:3010-1728122400-1728144000@themobilecprproject.com
SUMMARY:Crane Community Center Heart Screening
DESCRIPTION:Open to the public! \nAlan Horwitz Sixth Man Center \n4250 Wissahickon Ave
URL:https://themobilecprproject.com/event/crane-community-center-heart-screening/
END:VEVENT
BEGIN:VEVENT
DTSTART;TZID=UTC:20240927T120000
DTEND;TZID=UTC:20240927T160000
DTSTAMP:20260425T123934
CREATED:20240913T173512Z
LAST-MODIFIED:20240913T173512Z
UID:3007-1727438400-1727452800@themobilecprproject.com
SUMMARY:EDOU Community Day with Ardmore Farmer's Market
DESCRIPTION:Open to the public! \n85 Coulter Ave. Ardmore PA 19003
URL:https://themobilecprproject.com/event/edou-community-day-with-ardmore-farmers-market/
END:VEVENT
BEGIN:VEVENT
DTSTART;TZID=UTC:20240926T130000
DTEND;TZID=UTC:20240926T140000
DTSTAMP:20260425T123934
CREATED:20240913T173341Z
LAST-MODIFIED:20240913T173341Z
UID:3001-1727355600-1727359200@themobilecprproject.com
SUMMARY:Henrietta Hankin Branch in Chester Springs
DESCRIPTION:Open to the public! \n215 Windgate Dr\, Chester Springs\, PA 19425
URL:https://themobilecprproject.com/event/henrietta-hankin-branch-in-chester-springs/
END:VEVENT
BEGIN:VEVENT
DTSTART;TZID=UTC:20240926T120000
DTEND;TZID=UTC:20240926T130000
DTSTAMP:20260425T123934
CREATED:20240913T173435Z
LAST-MODIFIED:20240913T173435Z
UID:3004-1727352000-1727355600@themobilecprproject.com
SUMMARY:Tabling Event on Locust Walk
DESCRIPTION:Open to the public! \nLocust Walk\, University of Pennsylvania campus
URL:https://themobilecprproject.com/event/tabling-event-on-locust-walk/
END:VEVENT
BEGIN:VEVENT
DTSTART;TZID=UTC:20240925T110000
DTEND;TZID=UTC:20240925T120000
DTSTAMP:20260425T123934
CREATED:20240913T173304Z
LAST-MODIFIED:20240913T173304Z
UID:2998-1727262000-1727265600@themobilecprproject.com
SUMMARY:Penn Urban Health Lab
DESCRIPTION:Not open to the public
URL:https://themobilecprproject.com/event/penn-urban-health-lab/
END:VEVENT
END:VCALENDAR