BEGIN:VCALENDAR
VERSION:2.0
PRODID:-//MOBILE CPR - ECPv5.14.1//NONSGML v1.0//EN
CALSCALE:GREGORIAN
METHOD:PUBLISH
X-WR-CALNAME:MOBILE CPR
X-ORIGINAL-URL:https://themobilecprproject.com
X-WR-CALDESC:Events for MOBILE CPR
REFRESH-INTERVAL;VALUE=DURATION:PT1H
X-Robots-Tag:noindex
X-PUBLISHED-TTL:PT1H
BEGIN:VTIMEZONE
TZID:UTC
BEGIN:STANDARD
TZOFFSETFROM:+0000
TZOFFSETTO:+0000
TZNAME:UTC
DTSTART:20250101T000000
END:STANDARD
END:VTIMEZONE
BEGIN:VEVENT
DTSTART;TZID=UTC:20250509T100000
DTEND;TZID=UTC:20250509T110000
DTSTAMP:20260423T232709
CREATED:20250225T181041Z
LAST-MODIFIED:20250225T181041Z
UID:3224-1746784800-1746788400@themobilecprproject.com
SUMMARY:Center in the Park
DESCRIPTION:Not open to the public
URL:https://themobilecprproject.com/event/center-in-the-park-6/
END:VEVENT
BEGIN:VEVENT
DTSTART;TZID=UTC:20250508T183000
DTEND;TZID=UTC:20250508T193000
DTSTAMP:20260423T232709
CREATED:20250327T195553Z
LAST-MODIFIED:20250327T195553Z
UID:3268-1746729000-1746732600@themobilecprproject.com
SUMMARY:RiverWest Condo Association
DESCRIPTION:Not open to the public
URL:https://themobilecprproject.com/event/riverwest-condo-association/
END:VEVENT
BEGIN:VEVENT
DTSTART;TZID=UTC:20250507T180000
DTEND;TZID=UTC:20250507T190000
DTSTAMP:20260423T232709
CREATED:20250225T181006Z
LAST-MODIFIED:20250225T181006Z
UID:3221-1746640800-1746644400@themobilecprproject.com
SUMMARY:8th Police District Advisory Council
DESCRIPTION:Not open to the public
URL:https://themobilecprproject.com/event/8th-police-district-advisory-council-2/
END:VEVENT
BEGIN:VEVENT
DTSTART;TZID=UTC:20250506T160000
DTEND;TZID=UTC:20250506T190000
DTSTAMP:20260423T232709
CREATED:20250430T185335Z
LAST-MODIFIED:20250430T185335Z
UID:3368-1746547200-1746558000@themobilecprproject.com
SUMMARY:Water Tower Rec Center
DESCRIPTION:Open to the public! \n209 E Hartwell Ln\, Philadelphia\, PA 19118
URL:https://themobilecprproject.com/event/water-tower-rec-center-2/
END:VEVENT
BEGIN:VEVENT
DTSTART;TZID=UTC:20250505T160000
DTEND;TZID=UTC:20250505T190000
DTSTAMP:20260423T232709
CREATED:20250430T185311Z
LAST-MODIFIED:20250430T185311Z
UID:3365-1746460800-1746471600@themobilecprproject.com
SUMMARY:Water Tower Rec Center
DESCRIPTION:Open to the public! \n209 E Hartwell Ln\, Philadelphia\, PA 19118
URL:https://themobilecprproject.com/event/water-tower-rec-center/
END:VEVENT
BEGIN:VEVENT
DTSTART;TZID=UTC:20250503T110000
DTEND;TZID=UTC:20250503T150000
DTSTAMP:20260423T232709
CREATED:20250403T173928Z
LAST-MODIFIED:20250403T173928Z
UID:3296-1746270000-1746284400@themobilecprproject.com
SUMMARY:5th Annual Penn Medicine Nurses Week Community Day
DESCRIPTION:Open to the public! \n5100 Pine Street\nPhiladelphia\, PA 19143
URL:https://themobilecprproject.com/event/5th-annual-penn-medicine-nurses-week-community-day/
END:VEVENT
BEGIN:VEVENT
DTSTART;TZID=UTC:20250501T180000
DTEND;TZID=UTC:20250501T200000
DTSTAMP:20260423T232709
CREATED:20250403T173831Z
LAST-MODIFIED:20250403T173831Z
UID:3293-1746122400-1746129600@themobilecprproject.com
SUMMARY:Finley Rec Center
DESCRIPTION:Open to the public! \n7701 Mansfield Ave\, Philadelphia\, PA 19150
URL:https://themobilecprproject.com/event/finley-rec-center-2/
END:VEVENT
BEGIN:VEVENT
DTSTART;TZID=UTC:20250426T100000
DTEND;TZID=UTC:20250426T140000
DTSTAMP:20260423T232709
CREATED:20250220T182314Z
LAST-MODIFIED:20250220T182314Z
UID:3217-1745661600-1745676000@themobilecprproject.com
SUMMARY:New Light Ministries Community Wellness Symposium
DESCRIPTION:Open to the public! \n1631 W Cayuga St\, Philadelphia\, PA 19140
URL:https://themobilecprproject.com/event/new-light-ministries-community-wellness-symposium/
END:VEVENT
BEGIN:VEVENT
DTSTART;TZID=UTC:20250424T130000
DTEND;TZID=UTC:20250424T150000
DTSTAMP:20260423T232709
CREATED:20250407T173148Z
LAST-MODIFIED:20250407T183847Z
UID:3317-1745499600-1745506800@themobilecprproject.com
SUMMARY:St. Christopher School
DESCRIPTION:Not open to the public
URL:https://themobilecprproject.com/event/st-christopher-school/
END:VEVENT
BEGIN:VEVENT
DTSTART;TZID=UTC:20250424T110000
DTEND;TZID=UTC:20250424T120000
DTSTAMP:20260423T232709
CREATED:20250403T173718Z
LAST-MODIFIED:20250403T173718Z
UID:3290-1745492400-1745496000@themobilecprproject.com
SUMMARY:Action Wellness
DESCRIPTION:Not open to the public
URL:https://themobilecprproject.com/event/action-wellness-2/
END:VEVENT
BEGIN:VEVENT
DTSTART;TZID=UTC:20250423T100000
DTEND;TZID=UTC:20250423T110000
DTSTAMP:20260423T232709
CREATED:20250403T205116Z
LAST-MODIFIED:20250403T205116Z
UID:3307-1745402400-1745406000@themobilecprproject.com
SUMMARY:Salvation Army - Roxborough Corps
DESCRIPTION:Not open to the public
URL:https://themobilecprproject.com/event/salvation-army-roxborough-corps/
END:VEVENT
BEGIN:VEVENT
DTSTART;TZID=UTC:20250422T140000
DTEND;TZID=UTC:20250422T170000
DTSTAMP:20260423T232709
CREATED:20250220T182241Z
LAST-MODIFIED:20250220T182241Z
UID:3214-1745330400-1745341200@themobilecprproject.com
SUMMARY:Congreso's Environmental Awareness Festival
DESCRIPTION:Not open to the public
URL:https://themobilecprproject.com/event/congresos-environmental-awareness-festival/
END:VEVENT
BEGIN:VEVENT
DTSTART;TZID=UTC:20250422T100000
DTEND;TZID=UTC:20250422T110000
DTSTAMP:20260423T232709
CREATED:20250403T173647Z
LAST-MODIFIED:20250403T173647Z
UID:3287-1745316000-1745319600@themobilecprproject.com
SUMMARY:Action Wellness
DESCRIPTION:Not open to the public
URL:https://themobilecprproject.com/event/action-wellness/
END:VEVENT
BEGIN:VEVENT
DTSTART;TZID=UTC:20250419T120000
DTEND;TZID=UTC:20250419T140000
DTSTAMP:20260423T232709
CREATED:20250312T164728Z
LAST-MODIFIED:20250312T165141Z
UID:3257-1745064000-1745071200@themobilecprproject.com
SUMMARY:Greater Philadelphia Community Alliance - Community Baby Shower
DESCRIPTION:Open to the public! \nWhite Rock Baptist Church\n5240 Chestnut Street\nPhiladelphia\, PA 19139
URL:https://themobilecprproject.com/event/greater-philadelphia-community-alliance-community-baby-shower/
END:VEVENT
BEGIN:VEVENT
DTSTART;TZID=UTC:20250418T143000
DTEND;TZID=UTC:20250418T153000
DTSTAMP:20260423T232709
CREATED:20250403T173547Z
LAST-MODIFIED:20250403T173547Z
UID:3284-1744986600-1744990200@themobilecprproject.com
SUMMARY:Community CPR Tabling Event
DESCRIPTION:Open to the public! \nLocust Walk\nUniversity of Pennsylvania
URL:https://themobilecprproject.com/event/community-cpr-tabling-event/
END:VEVENT
BEGIN:VEVENT
DTSTART;TZID=UTC:20250416T183000
DTEND;TZID=UTC:20250416T193000
DTSTAMP:20260423T232709
CREATED:20250220T182211Z
LAST-MODIFIED:20250220T182211Z
UID:3211-1744828200-1744831800@themobilecprproject.com
SUMMARY:Haverford YMCA
DESCRIPTION:Open to the public! \n891 N Eagle Rd\, Havertown\, PA 19083
URL:https://themobilecprproject.com/event/haverford-ymca-8/
END:VEVENT
BEGIN:VEVENT
DTSTART;TZID=UTC:20250416T120000
DTEND;TZID=UTC:20250416T130000
DTSTAMP:20260423T232709
CREATED:20250220T182141Z
LAST-MODIFIED:20250220T182141Z
UID:3208-1744804800-1744808400@themobilecprproject.com
SUMMARY:Hune Inc (Spanish)
DESCRIPTION:Not open to the public
URL:https://themobilecprproject.com/event/hune-inc-spanish/
END:VEVENT
BEGIN:VEVENT
DTSTART;TZID=UTC:20250412T140000
DTEND;TZID=UTC:20250412T150000
DTSTAMP:20260423T232709
CREATED:20250327T195249Z
LAST-MODIFIED:20250327T195249Z
UID:3265-1744466400-1744470000@themobilecprproject.com
SUMMARY:All Mentees On Board Non Profit Organization
DESCRIPTION:Not open to the public
URL:https://themobilecprproject.com/event/all-mentees-on-board-non-profit-organization/
END:VEVENT
BEGIN:VEVENT
DTSTART;TZID=UTC:20250412T120000
DTEND;TZID=UTC:20250412T130000
DTSTAMP:20260423T232709
CREATED:20250220T182111Z
LAST-MODIFIED:20250220T182111Z
UID:3205-1744459200-1744462800@themobilecprproject.com
SUMMARY:Triumph Baptist Church
DESCRIPTION:Open to the public! \n1648 W Hunting Park Ave\, Philadelphia\, PA 19140
URL:https://themobilecprproject.com/event/triumph-baptist-church-2/
END:VEVENT
BEGIN:VEVENT
DTSTART;TZID=UTC:20250409T120000
DTEND;TZID=UTC:20250409T130000
DTSTAMP:20260423T232709
CREATED:20250220T182037Z
LAST-MODIFIED:20250220T182037Z
UID:3202-1744200000-1744203600@themobilecprproject.com
SUMMARY:Hune Inc (English)
DESCRIPTION:Not open to the public
URL:https://themobilecprproject.com/event/hune-inc-english/
END:VEVENT
BEGIN:VEVENT
DTSTART;TZID=UTC:20250404T130000
DTEND;TZID=UTC:20250404T140000
DTSTAMP:20260423T232709
CREATED:20250312T164628Z
LAST-MODIFIED:20250312T164628Z
UID:3254-1743771600-1743775200@themobilecprproject.com
SUMMARY:Falls of Schuylkill Library
DESCRIPTION:Open to the public! \n3501 Midvale Ave\nPhiladelphia\, PA. 19129
URL:https://themobilecprproject.com/event/falls-of-schuylkill-library/
END:VEVENT
BEGIN:VEVENT
DTSTART;TZID=UTC:20250403T180000
DTEND;TZID=UTC:20250403T200000
DTSTAMP:20260423T232709
CREATED:20250220T182009Z
LAST-MODIFIED:20250220T182009Z
UID:3199-1743703200-1743710400@themobilecprproject.com
SUMMARY:Finley Rec Center
DESCRIPTION:Open to the public! \n7701 Mansfield Ave\, Philadelphia\, PA 19150
URL:https://themobilecprproject.com/event/finley-rec-center/
END:VEVENT
BEGIN:VEVENT
DTSTART;TZID=UTC:20250325T090000
DTEND;TZID=UTC:20250325T100000
DTSTAMP:20260423T232709
CREATED:20250220T181916Z
LAST-MODIFIED:20250220T181916Z
UID:3196-1742893200-1742896800@themobilecprproject.com
SUMMARY:MDO-Community Services Cluster  Casarez Elementary School (SPANISH)
DESCRIPTION:Not open to the public
URL:https://themobilecprproject.com/event/mdo-community-services-cluster-casarez-elementary-school-spanish/
END:VEVENT
BEGIN:VEVENT
DTSTART;TZID=UTC:20250319T183000
DTEND;TZID=UTC:20250319T193000
DTSTAMP:20260423T232709
CREATED:20250220T181844Z
LAST-MODIFIED:20250220T181844Z
UID:3193-1742409000-1742412600@themobilecprproject.com
SUMMARY:Haverford YMCA
DESCRIPTION:Open to the public! \n891 N Eagle Rd\, Havertown\, PA 19083
URL:https://themobilecprproject.com/event/haverford-ymca-7/
END:VEVENT
BEGIN:VEVENT
DTSTART;TZID=UTC:20250317T103000
DTEND;TZID=UTC:20250317T113000
DTSTAMP:20260423T232709
CREATED:20250220T181801Z
LAST-MODIFIED:20250220T181801Z
UID:3190-1742207400-1742211000@themobilecprproject.com
SUMMARY:Better Tomorrows
DESCRIPTION:Not open to the public
URL:https://themobilecprproject.com/event/better-tomorrows/
END:VEVENT
BEGIN:VEVENT
DTSTART;TZID=UTC:20250311T110000
DTEND;TZID=UTC:20250311T150000
DTSTAMP:20260423T232709
CREATED:20250220T181725Z
LAST-MODIFIED:20250220T181725Z
UID:3187-1741690800-1741705200@themobilecprproject.com
SUMMARY:Temple University Pre-Health Resource Fair
DESCRIPTION:Open to the public! \nTemple University Campus
URL:https://themobilecprproject.com/event/temple-university-pre-health-resource-fair/
END:VEVENT
BEGIN:VEVENT
DTSTART;TZID=UTC:20250308T110000
DTEND;TZID=UTC:20250308T123000
DTSTAMP:20260423T232709
CREATED:20250220T181650Z
LAST-MODIFIED:20250220T181650Z
UID:3184-1741431600-1741437000@themobilecprproject.com
SUMMARY:Cancer Support Community Greater Philadelphia
DESCRIPTION:Open to the public! \n4100 Chamounix Drive\, Philadelphia\, PA 19131
URL:https://themobilecprproject.com/event/cancer-support-community-greater-philadelphia/
END:VEVENT
BEGIN:VEVENT
DTSTART;TZID=UTC:20250302T163000
DTEND;TZID=UTC:20250302T173000
DTSTAMP:20260423T232709
CREATED:20250220T181612Z
LAST-MODIFIED:20250220T181612Z
UID:3181-1740933000-1740936600@themobilecprproject.com
SUMMARY:Lambda Kappa Omega Inc. Sorority Alpha Chapter
DESCRIPTION:Not open to the public
URL:https://themobilecprproject.com/event/lambda-kappa-omega-inc-sorority-alpha-chapter/
END:VEVENT
BEGIN:VEVENT
DTSTART;TZID=UTC:20250301T140000
DTEND;TZID=UTC:20250301T160000
DTSTAMP:20260423T232709
CREATED:20250220T181503Z
LAST-MODIFIED:20250220T181503Z
UID:3175-1740837600-1740844800@themobilecprproject.com
SUMMARY:Walnut Street West Library
DESCRIPTION:Open to the public! \n201 S 40th St
URL:https://themobilecprproject.com/event/walnut-street-west-library/
END:VEVENT
BEGIN:VEVENT
DTSTART;TZID=UTC:20250301T110000
DTEND;TZID=UTC:20250301T130000
DTSTAMP:20260423T232709
CREATED:20250220T181541Z
LAST-MODIFIED:20250220T181541Z
UID:3178-1740826800-1740834000@themobilecprproject.com
SUMMARY:Spectrum Health
DESCRIPTION:Open to the public! \n5201 Haverford Ave\, Philadelphia\, PA 19139
URL:https://themobilecprproject.com/event/spectrum-health/
END:VEVENT
END:VCALENDAR