BEGIN:VCALENDAR
VERSION:2.0
PRODID:-//MOBILE CPR - ECPv5.14.1//NONSGML v1.0//EN
CALSCALE:GREGORIAN
METHOD:PUBLISH
X-WR-CALNAME:MOBILE CPR
X-ORIGINAL-URL:https://themobilecprproject.com
X-WR-CALDESC:Events for MOBILE CPR
REFRESH-INTERVAL;VALUE=DURATION:PT1H
X-Robots-Tag:noindex
X-PUBLISHED-TTL:PT1H
BEGIN:VTIMEZONE
TZID:UTC
BEGIN:STANDARD
TZOFFSETFROM:+0000
TZOFFSETTO:+0000
TZNAME:UTC
DTSTART:20190101T000000
END:STANDARD
TZID:America/New_York
BEGIN:DAYLIGHT
TZOFFSETFROM:-0500
TZOFFSETTO:-0400
TZNAME:EDT
DTSTART:20200308T070000
END:DAYLIGHT
BEGIN:STANDARD
TZOFFSETFROM:-0400
TZOFFSETTO:-0500
TZNAME:EST
DTSTART:20201101T060000
END:STANDARD
END:VTIMEZONE
BEGIN:VEVENT
DTSTART;TZID=UTC:20200302T103000
DTEND;TZID=UTC:20200302T113000
DTSTAMP:20260425T123814
CREATED:20200122T201605Z
LAST-MODIFIED:20200122T210521Z
UID:1400-1583145000-1583148600@themobilecprproject.com
SUMMARY:Philadelphia Department of Public Health
DESCRIPTION:
URL:https://themobilecprproject.com/event/philadelphia-department-of-public-health/
LOCATION:Philadelphia Department of Public Health\, 1101 Market Street\, Philadelphia\, PA\, 19107\, United States
END:VEVENT
BEGIN:VEVENT
DTSTART;TZID=UTC:20200227T150000
DTEND;TZID=UTC:20200227T160000
DTSTAMP:20260425T123814
CREATED:20200122T201752Z
LAST-MODIFIED:20200122T201752Z
UID:1404-1582815600-1582819200@themobilecprproject.com
SUMMARY:Center for H.O.P.E.
DESCRIPTION:
URL:https://themobilecprproject.com/event/center-for-h-o-p-e/
LOCATION:Center for H.O.P.E.\, 901 N Carlisle Street\, Philadelphia\, PA\, 19130\, United States
END:VEVENT
BEGIN:VEVENT
DTSTART;TZID=UTC:20200226T080000
DTEND;TZID=UTC:20200226T170000
DTSTAMP:20260425T123814
CREATED:20200122T201852Z
LAST-MODIFIED:20200122T201852Z
UID:1408-1582704000-1582736400@themobilecprproject.com
SUMMARY:Philadelphia School District
DESCRIPTION:
URL:https://themobilecprproject.com/event/philadelphia-school-district-4/
LOCATION:Philadelphia School District\, 440 North Broad\, Philadelphia\, PA\, 19130\, United States
END:VEVENT
BEGIN:VEVENT
DTSTART;TZID=America/New_York:20200225T183000
DTEND;TZID=America/New_York:20200225T183000
DTSTAMP:20260425T123814
CREATED:20200123T160328Z
LAST-MODIFIED:20200123T160328Z
UID:1458-1582655400-1582655400@themobilecprproject.com
SUMMARY:Franklin Institute "Jazz in the Planetarium"
DESCRIPTION:
URL:https://themobilecprproject.com/event/franklin-institute-jazz-in-the-planetarium/
END:VEVENT
BEGIN:VEVENT
DTSTART;TZID=UTC:20200225T103000
DTEND;TZID=UTC:20200225T113000
DTSTAMP:20260425T123814
CREATED:20200122T202039Z
LAST-MODIFIED:20200213T162122Z
UID:1411-1582626600-1582630200@themobilecprproject.com
SUMMARY:Mental Health Partnerships - Parenting Plus
DESCRIPTION:
URL:https://themobilecprproject.com/event/mental-health-partnerships/
LOCATION:Mental Health Partnerships\, 1211 Chestnut Street\, Philadelphia\, PA\, 19107\, United States
END:VEVENT
BEGIN:VEVENT
DTSTART;TZID=UTC:20200221T100000
DTEND;TZID=UTC:20200221T120000
DTSTAMP:20260425T123814
CREATED:20200205T192419Z
LAST-MODIFIED:20200205T192419Z
UID:1682-1582279200-1582286400@themobilecprproject.com
SUMMARY:Chester Housing Authority
DESCRIPTION:
URL:https://themobilecprproject.com/event/chester-housing-authority/
LOCATION:Chester Housing Authority\, 611 Central Ave\, Chester\, PA\, 19013\, United States
END:VEVENT
BEGIN:VEVENT
DTSTART;TZID=UTC:20200220T113000
DTEND;TZID=UTC:20200220T153000
DTSTAMP:20260425T123814
CREATED:20200204T155925Z
LAST-MODIFIED:20200204T155925Z
UID:1678-1582198200-1582212600@themobilecprproject.com
SUMMARY:Science Leadership Academy
DESCRIPTION:
URL:https://themobilecprproject.com/event/science-leadership-academy/
LOCATION:Science Leadership Academy\, 1482 Green St.\, Philadelphia\, PA\, 191030\, United States
END:VEVENT
BEGIN:VEVENT
DTSTART;TZID=UTC:20200218T113000
DTEND;TZID=UTC:20200218T130000
DTSTAMP:20260425T123814
CREATED:20200122T202137Z
LAST-MODIFIED:20200122T202137Z
UID:1415-1582025400-1582030800@themobilecprproject.com
SUMMARY:Temple University
DESCRIPTION:
URL:https://themobilecprproject.com/event/temple-university-2/
LOCATION:Temple University\, 1801 N Broad St\, Philadelphia\, PA\, 19122\, United States
END:VEVENT
BEGIN:VEVENT
DTSTART;TZID=UTC:20200214T100000
DTEND;TZID=UTC:20200214T140000
DTSTAMP:20260425T123814
CREATED:20200122T202639Z
LAST-MODIFIED:20200122T202639Z
UID:1419-1581674400-1581688800@themobilecprproject.com
SUMMARY:Mexican Consulate
DESCRIPTION:
URL:https://themobilecprproject.com/event/mexican-consulate/
END:VEVENT
BEGIN:VEVENT
DTSTART;TZID=UTC:20200213T160000
DTEND;TZID=UTC:20200213T170000
DTSTAMP:20260425T123814
CREATED:20200122T203100Z
LAST-MODIFIED:20200122T203100Z
UID:1418-1581609600-1581613200@themobilecprproject.com
SUMMARY:Frankford Branch - Free Library
DESCRIPTION:
URL:https://themobilecprproject.com/event/frankford-branch-free-library/
LOCATION:Free Library of Philadelphia – Frankford Branch\, 4634 Frankford Ave\, Philadelphia\, PA\, United States
END:VEVENT
BEGIN:VEVENT
DTSTART;TZID=UTC:20200212T120000
DTEND;TZID=UTC:20200212T130000
DTSTAMP:20260425T123814
CREATED:20200122T203355Z
LAST-MODIFIED:20200122T203355Z
UID:1425-1581508800-1581512400@themobilecprproject.com
SUMMARY:Community Learning Center West Philly
DESCRIPTION:
URL:https://themobilecprproject.com/event/community-learning-center-west-philly/
LOCATION:Community Learning Center West Philly\, 229 N 63rd St\,\, Philadelphia\, PA\, 19139\, United States
END:VEVENT
BEGIN:VEVENT
DTSTART;TZID=UTC:20200211T180000
DTEND;TZID=UTC:20200211T190000
DTSTAMP:20260425T123814
CREATED:20200122T203600Z
LAST-MODIFIED:20200122T203600Z
UID:1429-1581444000-1581447600@themobilecprproject.com
SUMMARY:Southwest CDC
DESCRIPTION:
URL:https://themobilecprproject.com/event/southwest-cdc/
LOCATION:South CDC\, 6328 Paschall Avenue\, Philadelphia\, PA\, 19142\, United States
END:VEVENT
BEGIN:VEVENT
DTSTART;TZID=UTC:20200210T133000
DTEND;TZID=UTC:20200210T143000
DTSTAMP:20260425T123814
CREATED:20200122T203751Z
LAST-MODIFIED:20200122T203751Z
UID:1433-1581341400-1581345000@themobilecprproject.com
SUMMARY:Philadelphia Department of Public Health
DESCRIPTION:
URL:https://themobilecprproject.com/event/philadelphia-department-of-public-health-2/
LOCATION:Philadelphia Department of Public Health\, 1101 Market Street\, Philadelphia\, PA\, 19107\, United States
END:VEVENT
BEGIN:VEVENT
DTSTART;TZID=UTC:20200208T110000
DTEND;TZID=UTC:20200208T170000
DTSTAMP:20260425T123814
CREATED:20200124T144447Z
LAST-MODIFIED:20200124T144447Z
UID:1488-1581159600-1581181200@themobilecprproject.com
SUMMARY:Block Kids
DESCRIPTION:
URL:https://themobilecprproject.com/event/block-kids/
END:VEVENT
BEGIN:VEVENT
DTSTART;TZID=UTC:20200207T103000
DTEND;TZID=UTC:20200207T233000
DTSTAMP:20260425T123814
CREATED:20200122T204230Z
LAST-MODIFIED:20200122T204230Z
UID:1437-1581071400-1581118200@themobilecprproject.com
SUMMARY:Philadelphia Department of Public Health
DESCRIPTION:
URL:https://themobilecprproject.com/event/philadelphia-department-of-public-health-3/
LOCATION:Philadelphia Department of Public Health\, 1101 Market Street\, Philadelphia\, PA\, 19107\, United States
END:VEVENT
BEGIN:VEVENT
DTSTART;TZID=UTC:20200206T180000
DTEND;TZID=UTC:20200206T190000
DTSTAMP:20260425T123814
CREATED:20200128T193523Z
LAST-MODIFIED:20200203T163613Z
UID:1491-1581012000-1581015600@themobilecprproject.com
SUMMARY:TU Black Professional Health Organization
DESCRIPTION:
URL:https://themobilecprproject.com/event/tu-black-professional-health-organization/
LOCATION:Temple University\, 1801 N Broad St\, Philadelphia\, PA\, 19122\, United States
END:VEVENT
BEGIN:VEVENT
DTSTART;TZID=UTC:20200205T123000
DTEND;TZID=UTC:20200205T133000
DTSTAMP:20260425T123814
CREATED:20200122T205530Z
LAST-MODIFIED:20200122T205530Z
UID:1440-1580905800-1580909400@themobilecprproject.com
SUMMARY:Office of the CEO - University of Pennsylvania Health System
DESCRIPTION:
URL:https://themobilecprproject.com/event/office-of-the-ceo-university-of-pennsylvania-health-system/
END:VEVENT
BEGIN:VEVENT
DTSTART;TZID=UTC:20200205T090000
DTEND;TZID=UTC:20200205T110000
DTSTAMP:20260425T123814
CREATED:20200122T205826Z
LAST-MODIFIED:20200122T205826Z
UID:1443-1580893200-1580900400@themobilecprproject.com
SUMMARY:Perelman Center Kiosk Event - AHA & Penn
DESCRIPTION:
URL:https://themobilecprproject.com/event/perelman-center-kiosk-event-aha-penn/
END:VEVENT
BEGIN:VEVENT
DTSTART;TZID=UTC:20200202T120000
DTEND;TZID=UTC:20200202T140000
DTSTAMP:20260425T123814
CREATED:20200130T163740Z
LAST-MODIFIED:20200130T163740Z
UID:1617-1580644800-1580652000@themobilecprproject.com
SUMMARY:Health Challenge Closing Event at Enon Tabernacle Baptist Church
DESCRIPTION:
URL:https://themobilecprproject.com/event/health-challenge-closing-event-at-enon-tabernacle-baptist-church/
LOCATION:Enon Tabernacle Baptist Church\, 2800 West Cheltenham Avenue\, Philadelphia\, PA\, United States
END:VEVENT
BEGIN:VEVENT
DTSTART;TZID=UTC:20200129T110000
DTEND;TZID=UTC:20200129T120000
DTSTAMP:20260425T123814
CREATED:20200122T210120Z
LAST-MODIFIED:20200122T210120Z
UID:1446-1580295600-1580299200@themobilecprproject.com
SUMMARY:Chester Senior Center
DESCRIPTION:
URL:https://themobilecprproject.com/event/chester-senior-center/
LOCATION:Chester Senior Center\, 721 Hayes Street\, Chester\, PA\, 19013\, United States
END:VEVENT
BEGIN:VEVENT
DTSTART;TZID=UTC:20200125T110000
DTEND;TZID=UTC:20200125T120000
DTSTAMP:20260425T123814
CREATED:20200122T190741Z
LAST-MODIFIED:20200122T190741Z
UID:1363-1579950000-1579953600@themobilecprproject.com
SUMMARY:Penn Future Women in Health
DESCRIPTION:
URL:https://themobilecprproject.com/event/penn-future-women-in-health/
LOCATION:Irvine Auditorium\, 3401 Spruce Street\, Philadelphia\, PA\, 19104\, United States
END:VEVENT
BEGIN:VEVENT
DTSTART;TZID=UTC:20200121T080000
DTEND;TZID=UTC:20200121T170000
DTSTAMP:20260425T123814
CREATED:20200123T161158Z
LAST-MODIFIED:20200123T161158Z
UID:1479-1579593600-1579626000@themobilecprproject.com
SUMMARY:Temple University
DESCRIPTION:
URL:https://themobilecprproject.com/event/temple-university-3/
END:VEVENT
BEGIN:VEVENT
DTSTART;TZID=UTC:20200120T080000
DTEND;TZID=UTC:20200120T170000
DTSTAMP:20260425T123814
CREATED:20200123T161126Z
LAST-MODIFIED:20200123T161126Z
UID:1476-1579507200-1579539600@themobilecprproject.com
SUMMARY:Shawna's House - MLK Day
DESCRIPTION:
URL:https://themobilecprproject.com/event/shawnas-house-mlk-day/
END:VEVENT
BEGIN:VEVENT
DTSTART;TZID=UTC:20200116T080000
DTEND;TZID=UTC:20200116T170000
DTSTAMP:20260425T123814
CREATED:20200123T161055Z
LAST-MODIFIED:20200123T161055Z
UID:1473-1579161600-1579194000@themobilecprproject.com
SUMMARY:Community Learning Center
DESCRIPTION:
URL:https://themobilecprproject.com/event/community-learning-center/
END:VEVENT
BEGIN:VEVENT
DTSTART;TZID=UTC:20200114T080000
DTEND;TZID=UTC:20200114T170000
DTSTAMP:20260425T123814
CREATED:20200123T161028Z
LAST-MODIFIED:20200123T161028Z
UID:1470-1578988800-1579021200@themobilecprproject.com
SUMMARY:AFAHO
DESCRIPTION:
URL:https://themobilecprproject.com/event/afaho/
END:VEVENT
BEGIN:VEVENT
DTSTART;TZID=UTC:20200114T080000
DTEND;TZID=UTC:20200114T170000
DTSTAMP:20260425T123814
CREATED:20200123T161001Z
LAST-MODIFIED:20200123T161001Z
UID:1467-1578988800-1579021200@themobilecprproject.com
SUMMARY:Septa 69th Street Station
DESCRIPTION:
URL:https://themobilecprproject.com/event/septa-69th-street-station/
END:VEVENT
BEGIN:VEVENT
DTSTART;TZID=UTC:20190819T180000
DTEND;TZID=UTC:20190819T200000
DTSTAMP:20260425T123814
CREATED:20190815T170232Z
LAST-MODIFIED:20190815T170643Z
UID:915-1566237600-1566244800@themobilecprproject.com
SUMMARY:Holmes Presbyterian Church
DESCRIPTION:alex@tornekdesign.com
URL:https://themobilecprproject.com/event/holmes-presbyterian-church/
LOCATION:6000 Rising Sun Ave\, Philadelphia\, DE\, 19111\, United States
END:VEVENT
BEGIN:VEVENT
DTSTART;TZID=UTC:20190815T180000
DTEND;TZID=UTC:20190815T200000
DTSTAMP:20260425T123814
CREATED:20190815T170519Z
LAST-MODIFIED:20190815T170519Z
UID:910-1565892000-1565899200@themobilecprproject.com
SUMMARY:Movies on the Block
DESCRIPTION:tbungy@CHS-ADPHILA.ORG
URL:https://themobilecprproject.com/event/movies-on-the-block/
LOCATION:6000 Rising Sun Ave\, Philadelphia\, PA\, 19111\, United States
END:VEVENT
END:VCALENDAR