BEGIN:VCALENDAR
VERSION:2.0
PRODID:-//MOBILE CPR - ECPv5.14.1//NONSGML v1.0//EN
CALSCALE:GREGORIAN
METHOD:PUBLISH
X-WR-CALNAME:MOBILE CPR
X-ORIGINAL-URL:https://themobilecprproject.com
X-WR-CALDESC:Events for MOBILE CPR
REFRESH-INTERVAL;VALUE=DURATION:PT1H
X-Robots-Tag:noindex
X-PUBLISHED-TTL:PT1H
BEGIN:VTIMEZONE
TZID:UTC
BEGIN:STANDARD
TZOFFSETFROM:+0000
TZOFFSETTO:+0000
TZNAME:UTC
DTSTART:20240101T000000
END:STANDARD
END:VTIMEZONE
BEGIN:VEVENT
DTSTART;TZID=UTC:20240306T160000
DTEND;TZID=UTC:20240306T170000
DTSTAMP:20260425T112050
CREATED:20240325T132348Z
LAST-MODIFIED:20240325T132348Z
UID:2550-1709740800-1709744400@themobilecprproject.com
SUMMARY:Philadelphia Chinatown Development Corporation
DESCRIPTION:Not open to the public
URL:https://themobilecprproject.com/event/philadelphia-chinatown-development-corporation/
END:VEVENT
BEGIN:VEVENT
DTSTART;TZID=UTC:20240306T100000
DTEND;TZID=UTC:20240306T110000
DTSTAMP:20260425T112050
CREATED:20240325T132438Z
LAST-MODIFIED:20240325T132438Z
UID:2553-1709719200-1709722800@themobilecprproject.com
SUMMARY:Philadelphia Parks and Rec - Urban Forestry
DESCRIPTION:Not open to the public
URL:https://themobilecprproject.com/event/philadelphia-parks-and-rec-urban-forestry-2/
END:VEVENT
BEGIN:VEVENT
DTSTART;TZID=UTC:20240305T170000
DTEND;TZID=UTC:20240305T180000
DTSTAMP:20260425T112050
CREATED:20240325T132154Z
LAST-MODIFIED:20240325T132154Z
UID:2546-1709658000-1709661600@themobilecprproject.com
SUMMARY:Wynnefield Library
DESCRIPTION:Open to the public! \n 
URL:https://themobilecprproject.com/event/wynnefield-library-5/
LOCATION:Wynnefield Library
END:VEVENT
BEGIN:VEVENT
DTSTART;TZID=UTC:20240229T153000
DTEND;TZID=UTC:20240229T163000
DTSTAMP:20260425T112050
CREATED:20240129T191311Z
LAST-MODIFIED:20240129T191311Z
UID:2444-1709220600-1709224200@themobilecprproject.com
SUMMARY:Legal Clinic for the Disabled
DESCRIPTION:Not open to the public
URL:https://themobilecprproject.com/event/legal-clinic-for-the-disabled/
END:VEVENT
BEGIN:VEVENT
DTSTART;TZID=UTC:20240228T190000
DTEND;TZID=UTC:20240228T200000
DTSTAMP:20260425T112050
CREATED:20240129T191158Z
LAST-MODIFIED:20240129T191158Z
UID:2438-1709146800-1709150400@themobilecprproject.com
SUMMARY:NLNA Community Center
DESCRIPTION:Open to the public! \n700 N 3rd St\, Philadelphia\, PA 19123
URL:https://themobilecprproject.com/event/nlna-community-center/
END:VEVENT
BEGIN:VEVENT
DTSTART;TZID=UTC:20240228T100000
DTEND;TZID=UTC:20240228T110000
DTSTAMP:20260425T112050
CREATED:20240129T191236Z
LAST-MODIFIED:20240129T191236Z
UID:2441-1709114400-1709118000@themobilecprproject.com
SUMMARY:Philadelphia Parks and Rec - Urban Forestry
DESCRIPTION:Not open to the public
URL:https://themobilecprproject.com/event/philadelphia-parks-and-rec-urban-forestry/
END:VEVENT
BEGIN:VEVENT
DTSTART;TZID=UTC:20240223T090000
DTEND;TZID=UTC:20240223T150000
DTSTAMP:20260425T112050
CREATED:20240129T191108Z
LAST-MODIFIED:20240129T191108Z
UID:2435-1708678800-1708700400@themobilecprproject.com
SUMMARY:Museum of Art
DESCRIPTION:Not open to the public
URL:https://themobilecprproject.com/event/museum-of-art-4/
END:VEVENT
BEGIN:VEVENT
DTSTART;TZID=UTC:20240222T153000
DTEND;TZID=UTC:20240222T163000
DTSTAMP:20260425T112050
CREATED:20240129T191002Z
LAST-MODIFIED:20240129T191002Z
UID:2429-1708615800-1708619400@themobilecprproject.com
SUMMARY:Rebuild Philadelphia
DESCRIPTION:Not open to the public
URL:https://themobilecprproject.com/event/rebuild-philadelphia/
END:VEVENT
BEGIN:VEVENT
DTSTART;TZID=UTC:20240222T090000
DTEND;TZID=UTC:20240222T140000
DTSTAMP:20260425T112050
CREATED:20240129T191043Z
LAST-MODIFIED:20240129T191043Z
UID:2432-1708592400-1708610400@themobilecprproject.com
SUMMARY:Museum of Art
DESCRIPTION:Not open to the public
URL:https://themobilecprproject.com/event/museum-of-art-3/
END:VEVENT
BEGIN:VEVENT
DTSTART;TZID=UTC:20240220T180000
DTEND;TZID=UTC:20240220T190000
DTSTAMP:20260425T112050
CREATED:20231211T133736Z
LAST-MODIFIED:20231211T133736Z
UID:2352-1708452000-1708455600@themobilecprproject.com
SUMMARY:Spring Valley YMCA
DESCRIPTION:Open to the public! \n19 W Linfield Trappe Road
URL:https://themobilecprproject.com/event/spring-valley-ymca-2/
END:VEVENT
BEGIN:VEVENT
DTSTART;TZID=UTC:20240220T140000
DTEND;TZID=UTC:20240220T150000
DTSTAMP:20260425T112050
CREATED:20240129T190916Z
LAST-MODIFIED:20240129T190916Z
UID:2426-1708437600-1708441200@themobilecprproject.com
SUMMARY:BETTER Center - The PAIR Center
DESCRIPTION:Not open to the public
URL:https://themobilecprproject.com/event/better-center-the-pair-center/
END:VEVENT
BEGIN:VEVENT
DTSTART;TZID=UTC:20240220T100000
DTEND;TZID=UTC:20240220T110000
DTSTAMP:20260425T112050
CREATED:20231211T133653Z
LAST-MODIFIED:20231211T133653Z
UID:2349-1708423200-1708426800@themobilecprproject.com
SUMMARY:Center in the Park
DESCRIPTION:Not open to the public
URL:https://themobilecprproject.com/event/center-in-the-park-3/
END:VEVENT
BEGIN:VEVENT
DTSTART;TZID=UTC:20240217T100000
DTEND;TZID=UTC:20240217T140000
DTSTAMP:20260425T112050
CREATED:20240129T190812Z
LAST-MODIFIED:20240129T190812Z
UID:2423-1708164000-1708178400@themobilecprproject.com
SUMMARY:Royersford Free Public Library
DESCRIPTION:Open to the public! \n200 S. 4th Ave. Royersford\, PA 19468
URL:https://themobilecprproject.com/event/royersford-free-public-library/
END:VEVENT
BEGIN:VEVENT
DTSTART;TZID=UTC:20240216T130000
DTEND;TZID=UTC:20240216T140000
DTSTAMP:20260425T112050
CREATED:20231211T133553Z
LAST-MODIFIED:20231211T133602Z
UID:2346-1708088400-1708092000@themobilecprproject.com
SUMMARY:Firehouse Active Adult Center
DESCRIPTION:Open to the public! \n5331 Haverford Ave
URL:https://themobilecprproject.com/event/firehouse-active-adult-center-2/
END:VEVENT
BEGIN:VEVENT
DTSTART;TZID=UTC:20240215T100000
DTEND;TZID=UTC:20240215T120000
DTSTAMP:20260425T112050
CREATED:20231211T133505Z
LAST-MODIFIED:20231211T133505Z
UID:2343-1707991200-1707998400@themobilecprproject.com
SUMMARY:Firehouse Active Adult Center
DESCRIPTION:Open to the public! \n5331 Haverford Ave
URL:https://themobilecprproject.com/event/firehouse-active-adult-center/
END:VEVENT
BEGIN:VEVENT
DTSTART;TZID=UTC:20240214T160000
DTEND;TZID=UTC:20240214T170000
DTSTAMP:20260425T112050
CREATED:20240116T174737Z
LAST-MODIFIED:20240116T174737Z
UID:2402-1707926400-1707930000@themobilecprproject.com
SUMMARY:Parkway Central Library
DESCRIPTION:Open to the public! \n1901 Vine St
URL:https://themobilecprproject.com/event/parkway-central-library/
END:VEVENT
BEGIN:VEVENT
DTSTART;TZID=UTC:20240213T100000
DTEND;TZID=UTC:20240213T150000
DTSTAMP:20260425T112050
CREATED:20240105T141131Z
LAST-MODIFIED:20240105T141145Z
UID:2368-1707818400-1707836400@themobilecprproject.com
SUMMARY:Orion Communities
DESCRIPTION:Open to the public!
URL:https://themobilecprproject.com/event/orion-communities/
END:VEVENT
BEGIN:VEVENT
DTSTART;TZID=UTC:20240212T090000
DTEND;TZID=UTC:20240212T150000
DTSTAMP:20260425T112050
CREATED:20240129T190521Z
LAST-MODIFIED:20240129T190521Z
UID:2417-1707728400-1707750000@themobilecprproject.com
SUMMARY:Museum of Art
DESCRIPTION:Not open to the public
URL:https://themobilecprproject.com/event/museum-of-art-2/
END:VEVENT
BEGIN:VEVENT
DTSTART;TZID=UTC:20240211T110000
DTEND;TZID=UTC:20240211T150000
DTSTAMP:20260425T112050
CREATED:20240129T190421Z
LAST-MODIFIED:20240129T190421Z
UID:2413-1707649200-1707663600@themobilecprproject.com
SUMMARY:UPenn MERT
DESCRIPTION:Not open to the public
URL:https://themobilecprproject.com/event/upenn-mert/
END:VEVENT
BEGIN:VEVENT
DTSTART;TZID=UTC:20240209T090000
DTEND;TZID=UTC:20240209T150000
DTSTAMP:20260425T112050
CREATED:20240129T190340Z
LAST-MODIFIED:20240129T190446Z
UID:2410-1707469200-1707490800@themobilecprproject.com
SUMMARY:Museum of Art
DESCRIPTION:Not open to the public
URL:https://themobilecprproject.com/event/museum-of-art/
END:VEVENT
BEGIN:VEVENT
DTSTART;TZID=UTC:20240207T180000
DTEND;TZID=UTC:20240207T190000
DTSTAMP:20260425T112050
CREATED:20240105T141028Z
LAST-MODIFIED:20240105T141028Z
UID:2365-1707328800-1707332400@themobilecprproject.com
SUMMARY:Houston Playground
DESCRIPTION:Open to the public!
URL:https://themobilecprproject.com/event/houston-playground/
END:VEVENT
BEGIN:VEVENT
DTSTART;TZID=UTC:20240206T190000
DTEND;TZID=UTC:20240206T200000
DTSTAMP:20260425T112050
CREATED:20240116T174555Z
LAST-MODIFIED:20240116T174555Z
UID:2399-1707246000-1707249600@themobilecprproject.com
SUMMARY:Penn/Drexel Sorority
DESCRIPTION:Not open to the public
URL:https://themobilecprproject.com/event/penn-drexel-sorority/
END:VEVENT
BEGIN:VEVENT
DTSTART;TZID=UTC:20240206T170000
DTEND;TZID=UTC:20240206T180000
DTSTAMP:20260425T112050
CREATED:20231211T133244Z
LAST-MODIFIED:20231211T133244Z
UID:2334-1707238800-1707242400@themobilecprproject.com
SUMMARY:Wynnefield Library
DESCRIPTION:Open to the public! \n5325 Overbrook Ave\, Philadelphia\, PA 19131
URL:https://themobilecprproject.com/event/wynnefield-library-3/
END:VEVENT
BEGIN:VEVENT
DTSTART;TZID=UTC:20240206T100000
DTEND;TZID=UTC:20240206T110000
DTSTAMP:20260425T112050
CREATED:20231211T133319Z
LAST-MODIFIED:20231211T133319Z
UID:2337-1707213600-1707217200@themobilecprproject.com
SUMMARY:Center in the Park
DESCRIPTION:Not open to the public
URL:https://themobilecprproject.com/event/center-in-the-park-2/
END:VEVENT
BEGIN:VEVENT
DTSTART;TZID=UTC:20240202T140000
DTEND;TZID=UTC:20240202T150000
DTSTAMP:20260425T112050
CREATED:20231206T210105Z
LAST-MODIFIED:20231206T210105Z
UID:2320-1706882400-1706886000@themobilecprproject.com
SUMMARY:St. Joseph's University
DESCRIPTION:Not open to the public
URL:https://themobilecprproject.com/event/st-josephs-university/
END:VEVENT
BEGIN:VEVENT
DTSTART;TZID=UTC:20240130T180000
DTEND;TZID=UTC:20240130T190000
DTSTAMP:20260425T112050
CREATED:20231211T132848Z
LAST-MODIFIED:20240116T174157Z
UID:2325-1706637600-1706641200@themobilecprproject.com
SUMMARY:Spring Valley YMCA
DESCRIPTION:Open to the public! \n19 W Linfield Trappe Road
URL:https://themobilecprproject.com/event/spring-valley-ymca/
END:VEVENT
BEGIN:VEVENT
DTSTART;TZID=UTC:20240129T100000
DTEND;TZID=UTC:20240129T110000
DTSTAMP:20260425T112050
CREATED:20240105T140724Z
LAST-MODIFIED:20240105T140724Z
UID:2359-1706522400-1706526000@themobilecprproject.com
SUMMARY:Center in the Park
DESCRIPTION:Not open to the public
URL:https://themobilecprproject.com/event/center-in-the-park-4/
END:VEVENT
BEGIN:VEVENT
DTSTART;TZID=UTC:20240127T100000
DTEND;TZID=UTC:20240127T150000
DTSTAMP:20260425T112050
CREATED:20240105T140854Z
LAST-MODIFIED:20240105T140854Z
UID:2362-1706349600-1706367600@themobilecprproject.com
SUMMARY:Representative Khan Community Health Event
DESCRIPTION:Open to the public!
URL:https://themobilecprproject.com/event/representative-khan-community-health-event/
END:VEVENT
BEGIN:VEVENT
DTSTART;TZID=UTC:20240125T113000
DTEND;TZID=UTC:20240125T123000
DTSTAMP:20260425T112050
CREATED:20240116T174437Z
LAST-MODIFIED:20240116T174437Z
UID:2396-1706182200-1706185800@themobilecprproject.com
SUMMARY:Mural Arts Philadelphia
DESCRIPTION:Open to the public! \n1727-29 Mt Vernon St\, Philadelphia\, PA 19130
URL:https://themobilecprproject.com/event/mural-arts-philadelphia/
END:VEVENT
BEGIN:VEVENT
DTSTART;TZID=UTC:20240122T130000
DTEND;TZID=UTC:20240122T150000
DTSTAMP:20260425T112050
CREATED:20231211T133015Z
LAST-MODIFIED:20231211T133015Z
UID:2331-1705928400-1705935600@themobilecprproject.com
SUMMARY:Center in the Park
DESCRIPTION:Not open to the public
URL:https://themobilecprproject.com/event/center-in-the-park/
END:VEVENT
END:VCALENDAR