BEGIN:VCALENDAR
VERSION:2.0
PRODID:-//MOBILE CPR - ECPv5.14.1//NONSGML v1.0//EN
CALSCALE:GREGORIAN
METHOD:PUBLISH
X-WR-CALNAME:MOBILE CPR
X-ORIGINAL-URL:https://themobilecprproject.com
X-WR-CALDESC:Events for MOBILE CPR
REFRESH-INTERVAL;VALUE=DURATION:PT1H
X-Robots-Tag:noindex
X-PUBLISHED-TTL:PT1H
BEGIN:VTIMEZONE
TZID:UTC
BEGIN:STANDARD
TZOFFSETFROM:+0000
TZOFFSETTO:+0000
TZNAME:UTC
DTSTART:20240101T000000
END:STANDARD
END:VTIMEZONE
BEGIN:VEVENT
DTSTART;TZID=UTC:20250302T163000
DTEND;TZID=UTC:20250302T173000
DTSTAMP:20260424T162144
CREATED:20250220T181612Z
LAST-MODIFIED:20250220T181612Z
UID:3181-1740933000-1740936600@themobilecprproject.com
SUMMARY:Lambda Kappa Omega Inc. Sorority Alpha Chapter
DESCRIPTION:Not open to the public
URL:https://themobilecprproject.com/event/lambda-kappa-omega-inc-sorority-alpha-chapter/
END:VEVENT
BEGIN:VEVENT
DTSTART;TZID=UTC:20250301T140000
DTEND;TZID=UTC:20250301T160000
DTSTAMP:20260424T162144
CREATED:20250220T181503Z
LAST-MODIFIED:20250220T181503Z
UID:3175-1740837600-1740844800@themobilecprproject.com
SUMMARY:Walnut Street West Library
DESCRIPTION:Open to the public! \n201 S 40th St
URL:https://themobilecprproject.com/event/walnut-street-west-library/
END:VEVENT
BEGIN:VEVENT
DTSTART;TZID=UTC:20250301T110000
DTEND;TZID=UTC:20250301T130000
DTSTAMP:20260424T162144
CREATED:20250220T181541Z
LAST-MODIFIED:20250220T181541Z
UID:3178-1740826800-1740834000@themobilecprproject.com
SUMMARY:Spectrum Health
DESCRIPTION:Open to the public! \n5201 Haverford Ave\, Philadelphia\, PA 19139
URL:https://themobilecprproject.com/event/spectrum-health/
END:VEVENT
BEGIN:VEVENT
DTSTART;TZID=UTC:20250227T143000
DTEND;TZID=UTC:20250227T153000
DTSTAMP:20260424T162144
CREATED:20250220T181413Z
LAST-MODIFIED:20250220T181413Z
UID:3172-1740666600-1740670200@themobilecprproject.com
SUMMARY:Cornerstone Advisors Asset Management
DESCRIPTION:Not open to the public
URL:https://themobilecprproject.com/event/cornerstone-advisors-asset-management/
END:VEVENT
BEGIN:VEVENT
DTSTART;TZID=UTC:20250226T080000
DTEND;TZID=UTC:20250226T153000
DTSTAMP:20260424T162144
CREATED:20250210T135346Z
LAST-MODIFIED:20250210T135346Z
UID:3164-1740556800-1740583800@themobilecprproject.com
SUMMARY:Science Leadership Academy at Beeber
DESCRIPTION:Not open to the public
URL:https://themobilecprproject.com/event/science-leadership-academy-at-beeber/
END:VEVENT
BEGIN:VEVENT
DTSTART;TZID=UTC:20250222T120000
DTEND;TZID=UTC:20250222T130000
DTSTAMP:20260424T162144
CREATED:20250107T205439Z
LAST-MODIFIED:20250107T205439Z
UID:3144-1740225600-1740229200@themobilecprproject.com
SUMMARY:Triumph Baptist Church
DESCRIPTION:Open to the public! \n1648 W Hunting Park Ave\, Philadelphia\, PA 19140
URL:https://themobilecprproject.com/event/triumph-baptist-church/
END:VEVENT
BEGIN:VEVENT
DTSTART;TZID=UTC:20250222T110000
DTEND;TZID=UTC:20250222T150000
DTSTAMP:20260424T162144
CREATED:20250210T135313Z
LAST-MODIFIED:20250210T135313Z
UID:3161-1740222000-1740236400@themobilecprproject.com
SUMMARY:IBX Member Day
DESCRIPTION:Open to the public and IBX Members \nThe Franklin Institute\n222 N 20th St\, Philadelphia\, PA 19103
URL:https://themobilecprproject.com/event/ibx-member-day/
END:VEVENT
BEGIN:VEVENT
DTSTART;TZID=UTC:20250220T160000
DTEND;TZID=UTC:20250220T170000
DTSTAMP:20260424T162144
CREATED:20250210T135224Z
LAST-MODIFIED:20250210T135224Z
UID:3158-1740067200-1740070800@themobilecprproject.com
SUMMARY:St. Joseph's University
DESCRIPTION:Not open to the public
URL:https://themobilecprproject.com/event/st-josephs-university-3/
END:VEVENT
BEGIN:VEVENT
DTSTART;TZID=UTC:20250220T110000
DTEND;TZID=UTC:20250220T120000
DTSTAMP:20260424T162144
CREATED:20250210T135151Z
LAST-MODIFIED:20250210T135151Z
UID:3155-1740049200-1740052800@themobilecprproject.com
SUMMARY:Pareto Health
DESCRIPTION:Not open to the public
URL:https://themobilecprproject.com/event/pareto-health/
END:VEVENT
BEGIN:VEVENT
DTSTART;TZID=UTC:20250219T183000
DTEND;TZID=UTC:20250219T193000
DTSTAMP:20260424T162144
CREATED:20250107T205358Z
LAST-MODIFIED:20250107T205358Z
UID:3141-1739989800-1739993400@themobilecprproject.com
SUMMARY:Haverford YMCA
DESCRIPTION:Open to the public! \n891 N Eagle Rd\, Havertown\, PA 19083
URL:https://themobilecprproject.com/event/haverford-ymca-6/
END:VEVENT
BEGIN:VEVENT
DTSTART;TZID=UTC:20250218T090000
DTEND;TZID=UTC:20250218T100000
DTSTAMP:20260424T162144
CREATED:20250107T205309Z
LAST-MODIFIED:20250107T205309Z
UID:3138-1739869200-1739872800@themobilecprproject.com
SUMMARY:Global Leadership Academy
DESCRIPTION:Not open to the public
URL:https://themobilecprproject.com/event/global-leadership-academy-3/
END:VEVENT
BEGIN:VEVENT
DTSTART;TZID=UTC:20250216T110000
DTEND;TZID=UTC:20250216T150000
DTSTAMP:20260424T162144
CREATED:20250210T135049Z
LAST-MODIFIED:20250210T135049Z
UID:3152-1739703600-1739718000@themobilecprproject.com
SUMMARY:MERT HOCPR Campus Wide Event
DESCRIPTION:UPenn’s Campus \nNot open to the public
URL:https://themobilecprproject.com/event/mert-hocpr-campus-wide-event/
END:VEVENT
BEGIN:VEVENT
DTSTART;TZID=UTC:20250208T100000
DTEND;TZID=UTC:20250208T110000
DTSTAMP:20260424T162144
CREATED:20250107T205232Z
LAST-MODIFIED:20250107T205232Z
UID:3135-1739008800-1739012400@themobilecprproject.com
SUMMARY:Global Leadership Academy
DESCRIPTION:Not open to the public
URL:https://themobilecprproject.com/event/global-leadership-academy-2/
END:VEVENT
BEGIN:VEVENT
DTSTART;TZID=UTC:20250207T110000
DTEND;TZID=UTC:20250207T120000
DTSTAMP:20260424T162144
CREATED:20250210T135001Z
LAST-MODIFIED:20250210T135001Z
UID:3149-1738926000-1738929600@themobilecprproject.com
SUMMARY:CPR Tabling Event - UPenn
DESCRIPTION:Houston Hall – UPenn Campus \nPrivate
URL:https://themobilecprproject.com/event/cpr-tabling-event-upenn/
END:VEVENT
BEGIN:VEVENT
DTSTART;TZID=UTC:20250207T080000
DTEND;TZID=UTC:20250207T170000
DTSTAMP:20260424T162144
CREATED:20250107T205157Z
LAST-MODIFIED:20250107T205157Z
UID:3132-1738915200-1738947600@themobilecprproject.com
SUMMARY:School District of Philadelphia
DESCRIPTION:Not open to the public
URL:https://themobilecprproject.com/event/school-district-of-philadelphia-5/
END:VEVENT
BEGIN:VEVENT
DTSTART;TZID=UTC:20250206T120000
DTEND;TZID=UTC:20250206T130000
DTSTAMP:20260424T162144
CREATED:20250107T205128Z
LAST-MODIFIED:20250107T205128Z
UID:3129-1738843200-1738846800@themobilecprproject.com
SUMMARY:Dr. Glick's Sister's School
DESCRIPTION:Not open to the public
URL:https://themobilecprproject.com/event/dr-glicks-sisters-school/
END:VEVENT
BEGIN:VEVENT
DTSTART;TZID=UTC:20250201T080000
DTEND;TZID=UTC:20250201T170000
DTSTAMP:20260424T162144
CREATED:20250107T205043Z
LAST-MODIFIED:20250107T205043Z
UID:3126-1738396800-1738429200@themobilecprproject.com
SUMMARY:Odyssey of Eden Doula Services
DESCRIPTION:Open to the public! \n29 Bala Ave\, Bala Cynwyd\, PA 19004
URL:https://themobilecprproject.com/event/odyssey-of-eden-doula-services/
END:VEVENT
BEGIN:VEVENT
DTSTART;TZID=UTC:20250131T080000
DTEND;TZID=UTC:20250131T170000
DTSTAMP:20260424T162144
CREATED:20250107T174346Z
LAST-MODIFIED:20250107T174346Z
UID:3123-1738310400-1738342800@themobilecprproject.com
SUMMARY:School District of Philadelphia
DESCRIPTION:Not open to the public
URL:https://themobilecprproject.com/event/school-district-of-philadelphia-4/
END:VEVENT
BEGIN:VEVENT
DTSTART;TZID=UTC:20250130T080000
DTEND;TZID=UTC:20250130T170000
DTSTAMP:20260424T162144
CREATED:20250107T174332Z
LAST-MODIFIED:20250107T174332Z
UID:3120-1738224000-1738256400@themobilecprproject.com
SUMMARY:School District of Philadelphia
DESCRIPTION:Not open to the public
URL:https://themobilecprproject.com/event/school-district-of-philadelphia-3/
END:VEVENT
BEGIN:VEVENT
DTSTART;TZID=UTC:20250128T080000
DTEND;TZID=UTC:20250128T170000
DTSTAMP:20260424T162144
CREATED:20250107T174230Z
LAST-MODIFIED:20250107T174230Z
UID:3114-1738051200-1738083600@themobilecprproject.com
SUMMARY:School District of Philadelphia
DESCRIPTION:Not open to the public
URL:https://themobilecprproject.com/event/school-district-of-philadelphia-2/
END:VEVENT
BEGIN:VEVENT
DTSTART;TZID=UTC:20250126T120000
DTEND;TZID=UTC:20250126T130000
DTSTAMP:20260424T162144
CREATED:20250107T174309Z
LAST-MODIFIED:20250107T174309Z
UID:3117-1737892800-1737896400@themobilecprproject.com
SUMMARY:TORQUE Spin\, Barre\, & TRX Studio
DESCRIPTION:Open to the public! \n328 N Lewis Rd\, Royersford\, PA 19468
URL:https://themobilecprproject.com/event/torque-spin-barre-trx-studio/
END:VEVENT
BEGIN:VEVENT
DTSTART;TZID=UTC:20250125T100000
DTEND;TZID=UTC:20250125T170000
DTSTAMP:20260424T162144
CREATED:20250107T174158Z
LAST-MODIFIED:20250107T174158Z
UID:3111-1737799200-1737824400@themobilecprproject.com
SUMMARY:All Mentees on Board
DESCRIPTION:Not open to the public
URL:https://themobilecprproject.com/event/all-mentees-on-board/
END:VEVENT
BEGIN:VEVENT
DTSTART;TZID=UTC:20250124T120000
DTEND;TZID=UTC:20250124T130000
DTSTAMP:20260424T162144
CREATED:20250107T174130Z
LAST-MODIFIED:20250107T174130Z
UID:3108-1737720000-1737723600@themobilecprproject.com
SUMMARY:Center in the Park
DESCRIPTION:Not open to the public
URL:https://themobilecprproject.com/event/center-in-the-park-5/
END:VEVENT
BEGIN:VEVENT
DTSTART;TZID=UTC:20250123T173000
DTEND;TZID=UTC:20250123T183000
DTSTAMP:20260424T162144
CREATED:20250107T174101Z
LAST-MODIFIED:20250107T174101Z
UID:3105-1737653400-1737657000@themobilecprproject.com
SUMMARY:Global Leadership Academy
DESCRIPTION:Not open to the public
URL:https://themobilecprproject.com/event/global-leadership-academy/
END:VEVENT
BEGIN:VEVENT
DTSTART;TZID=UTC:20250120T090000
DTEND;TZID=UTC:20250120T130000
DTSTAMP:20260424T162144
CREATED:20250107T174030Z
LAST-MODIFIED:20250107T174030Z
UID:3102-1737363600-1737378000@themobilecprproject.com
SUMMARY:2025 MLK Day of Service
DESCRIPTION:Open to the public! \n5732 Race St
URL:https://themobilecprproject.com/event/2025-mlk-day-of-service/
END:VEVENT
BEGIN:VEVENT
DTSTART;TZID=UTC:20250115T183000
DTEND;TZID=UTC:20250115T193000
DTSTAMP:20260424T162144
CREATED:20250107T173957Z
LAST-MODIFIED:20250107T173957Z
UID:3099-1736965800-1736969400@themobilecprproject.com
SUMMARY:Haverford YMCA
DESCRIPTION:Open to the public! \n891 N Eagle Rd\, Havertown\, PA 19083
URL:https://themobilecprproject.com/event/haverford-ymca-5/
END:VEVENT
BEGIN:VEVENT
DTSTART;TZID=UTC:20241218T183000
DTEND;TZID=UTC:20241218T193000
DTSTAMP:20260424T162144
CREATED:20241004T134844Z
LAST-MODIFIED:20241004T134844Z
UID:3072-1734546600-1734550200@themobilecprproject.com
SUMMARY:Haverford YMCA
DESCRIPTION:Open to the public! \n891 N Eagle Rd\, Havertown\, PA 19083
URL:https://themobilecprproject.com/event/haverford-ymca-4/
END:VEVENT
BEGIN:VEVENT
DTSTART;TZID=UTC:20241214T150000
DTEND;TZID=UTC:20241214T180000
DTSTAMP:20260424T162144
CREATED:20241101T200042Z
LAST-MODIFIED:20241101T200042Z
UID:3089-1734188400-1734199200@themobilecprproject.com
SUMMARY:Temple University Saturday Sports Camp
DESCRIPTION:Not open to the public
URL:https://themobilecprproject.com/event/temple-university-saturday-sports-camp/
END:VEVENT
BEGIN:VEVENT
DTSTART;TZID=UTC:20241213T090000
DTEND;TZID=UTC:20241213T170000
DTSTAMP:20260424T162144
CREATED:20241101T200004Z
LAST-MODIFIED:20241101T200004Z
UID:3086-1734080400-1734109200@themobilecprproject.com
SUMMARY:School District of Philadelphia
DESCRIPTION:Not open to the public
URL:https://themobilecprproject.com/event/school-district-of-philadelphia/
END:VEVENT
BEGIN:VEVENT
DTSTART;TZID=UTC:20241210T100000
DTEND;TZID=UTC:20241210T110000
DTSTAMP:20260424T162144
CREATED:20241004T134809Z
LAST-MODIFIED:20241004T134809Z
UID:3069-1733824800-1733828400@themobilecprproject.com
SUMMARY:Parkway Central Library
DESCRIPTION:Open to the public! \n1901 Vine St
URL:https://themobilecprproject.com/event/parkway-central-library-6/
END:VEVENT
END:VCALENDAR