BEGIN:VCALENDAR
VERSION:2.0
PRODID:-//MOBILE CPR - ECPv5.14.1//NONSGML v1.0//EN
CALSCALE:GREGORIAN
METHOD:PUBLISH
X-WR-CALNAME:MOBILE CPR
X-ORIGINAL-URL:https://themobilecprproject.com
X-WR-CALDESC:Events for MOBILE CPR
REFRESH-INTERVAL;VALUE=DURATION:PT1H
X-Robots-Tag:noindex
X-PUBLISHED-TTL:PT1H
BEGIN:VTIMEZONE
TZID:UTC
BEGIN:STANDARD
TZOFFSETFROM:+0000
TZOFFSETTO:+0000
TZNAME:UTC
DTSTART:20200101T000000
END:STANDARD
END:VTIMEZONE
BEGIN:VEVENT
DTSTART;TZID=UTC:20231101T143000
DTEND;TZID=UTC:20231101T153000
DTSTAMP:20260425T151640
CREATED:20231002T182413Z
LAST-MODIFIED:20231024T165522Z
UID:2158-1698849000-1698852600@themobilecprproject.com
SUMMARY:Philadelphia Touch Museum CPR Training
DESCRIPTION:
URL:https://themobilecprproject.com/event/philadelphia-touch-museum-cpr-training/
LOCATION:Philadelphia Touch Museum\, 4231 Avenue of the Republic\, Philadelphia\, PA\, 19131\, United States
END:VEVENT
BEGIN:VEVENT
DTSTART;TZID=UTC:20231030T090000
DTEND;TZID=UTC:20231030T100000
DTSTAMP:20260425T151640
CREATED:20231002T182655Z
LAST-MODIFIED:20231024T165458Z
UID:2162-1698656400-1698660000@themobilecprproject.com
SUMMARY:Philadelphia Parks and Recreation CPR Training
DESCRIPTION:
URL:https://themobilecprproject.com/event/philadelphia-parks-and-recreation-cpr-training/
LOCATION:Philadelphia Parks and Recreation
END:VEVENT
BEGIN:VEVENT
DTSTART;TZID=UTC:20231025T130000
DTEND;TZID=UTC:20231025T140000
DTSTAMP:20260425T151640
CREATED:20231024T165711Z
LAST-MODIFIED:20231024T165711Z
UID:2240-1698238800-1698242400@themobilecprproject.com
SUMMARY:Reed House Salvation Army
DESCRIPTION:
URL:https://themobilecprproject.com/event/reed-house-salvation-army/
END:VEVENT
BEGIN:VEVENT
DTSTART;TZID=UTC:20230929T090000
DTEND;TZID=UTC:20230929T110000
DTSTAMP:20260425T151640
CREATED:20230921T154148Z
LAST-MODIFIED:20230921T154340Z
UID:2093-1695978000-1695985200@themobilecprproject.com
SUMMARY:Manavon Park CPR Training
DESCRIPTION:scottlail@comcast.net
URL:https://themobilecprproject.com/event/manavon-park-cpr-training/
LOCATION:Phoenixville Borough Recreation Center\, 501 Franklin Ave\, Phoenixville\, 19460\, United States
END:VEVENT
BEGIN:VEVENT
DTSTART;TZID=UTC:20230921T000000
DTEND;TZID=UTC:20230921T000000
DTSTAMP:20260425T151640
CREATED:20230921T154246Z
LAST-MODIFIED:20230921T154246Z
UID:2095-1695254400-1695254400@themobilecprproject.com
SUMMARY:Ben test event
DESCRIPTION:benjamin.abella@pennmedicine.upenn.edu
URL:https://themobilecprproject.com/event/ben-test-event/
LOCATION:penn\, 121 Edgewood Road\, Ardmore\, PA\, 19003\, United States
END:VEVENT
BEGIN:VEVENT
DTSTART;TZID=UTC:20230921T000000
DTEND;TZID=UTC:20230921T000000
DTSTAMP:20260425T151640
CREATED:20230921T154226Z
LAST-MODIFIED:20230921T154226Z
UID:2006-1695254400-1695254400@themobilecprproject.com
SUMMARY:test aarthi
DESCRIPTION:aarthi.kaviyarasu@pennmedicine.upenn.edu
URL:https://themobilecprproject.com/event/test-aarthi/
LOCATION:Test\, test\, test\, test\, test\, United States
END:VEVENT
BEGIN:VEVENT
DTSTART;TZID=UTC:20230918T080000
DTEND;TZID=UTC:20230921T170000
DTSTAMP:20260425T151640
CREATED:20230822T031227Z
LAST-MODIFIED:20230919T023920Z
UID:1884-1695024000-1695315600@themobilecprproject.com
SUMMARY:Alex Tornek
DESCRIPTION:
URL:https://themobilecprproject.com/event/alex-tornek/
END:VEVENT
BEGIN:VEVENT
DTSTART;TZID=UTC:20230824T000000
DTEND;TZID=UTC:20230824T000000
DTSTAMP:20260425T151640
CREATED:20230824T171500Z
LAST-MODIFIED:20230824T171500Z
UID:1999-1692835200-1692835200@themobilecprproject.com
SUMMARY:Test for Taylor
DESCRIPTION:alex@tornekdesign.com
URL:https://themobilecprproject.com/event/test-for-taylor/
LOCATION:Community Center\, 701 Sharpley Road\, Wilmington\, DE\, 19803\, United States
END:VEVENT
BEGIN:VEVENT
DTSTART;TZID=UTC:20200617T100000
DTEND;TZID=UTC:20200617T140000
DTSTAMP:20260425T151640
CREATED:20200122T192653Z
LAST-MODIFIED:20200122T192653Z
UID:1368-1592388000-1592402400@themobilecprproject.com
SUMMARY:Philadelphia DHS
DESCRIPTION:
URL:https://themobilecprproject.com/event/philadelphia-dhs/
LOCATION:One Parkway Building\, 1515 Arch Street\, Philadelphia\, PA\, 19102\, United States
END:VEVENT
BEGIN:VEVENT
DTSTART;TZID=UTC:20200610T120000
DTEND;TZID=UTC:20200610T160000
DTSTAMP:20260425T151640
CREATED:20200122T192933Z
LAST-MODIFIED:20200122T193437Z
UID:1372-1591790400-1591804800@themobilecprproject.com
SUMMARY:Philadelphia Juvenile Justice Services Center
DESCRIPTION:
URL:https://themobilecprproject.com/event/philadelphia-juvenile-justice-services-center/
LOCATION:Philadelphia Juvenile Justice Services Center\, 91 North 48th Street\, Philadelphia\, PA\, United States
END:VEVENT
BEGIN:VEVENT
DTSTART;TZID=UTC:20200519T080000
DTEND;TZID=UTC:20200519T170000
DTSTAMP:20260425T151640
CREATED:20200122T193032Z
LAST-MODIFIED:20200122T193032Z
UID:1375-1589875200-1589907600@themobilecprproject.com
SUMMARY:Philadelphia School District
DESCRIPTION:
URL:https://themobilecprproject.com/event/philadelphia-school-district/
END:VEVENT
BEGIN:VEVENT
DTSTART;TZID=UTC:20200430T090000
DTEND;TZID=UTC:20200430T233000
DTSTAMP:20260425T151640
CREATED:20200304T163245Z
LAST-MODIFIED:20200304T163245Z
UID:1771-1588237200-1588289400@themobilecprproject.com
SUMMARY:Philadelphia WIC Program
DESCRIPTION:
URL:https://themobilecprproject.com/event/philadelphia-wic-program/
LOCATION:TU Morgan Hall\, 1601 N. Broad St\, Philadelphia\, PA\, 19122\, United States
END:VEVENT
BEGIN:VEVENT
DTSTART;TZID=UTC:20200422T080000
DTEND;TZID=UTC:20200422T170000
DTSTAMP:20260425T151640
CREATED:20200122T193149Z
LAST-MODIFIED:20200122T193149Z
UID:1378-1587542400-1587574800@themobilecprproject.com
SUMMARY:Philadelphia School District
DESCRIPTION:
URL:https://themobilecprproject.com/event/philadelphia-school-district-2/
LOCATION:Philadelphia School District\, 440 North Broad\, Philadelphia\, PA\, 19130\, United States
END:VEVENT
BEGIN:VEVENT
DTSTART;TZID=UTC:20200406T140000
DTEND;TZID=UTC:20200406T160000
DTSTAMP:20260425T151640
CREATED:20200207T190901Z
LAST-MODIFIED:20200207T190901Z
UID:1686-1586181600-1586188800@themobilecprproject.com
SUMMARY:Delta Sigma Theta
DESCRIPTION:
URL:https://themobilecprproject.com/event/delta-sigma-theta/
LOCATION:Gustine Recreation Center\, 4868 Ridge Ave\, Philadelphia\, PA\, 19129\, United States
END:VEVENT
BEGIN:VEVENT
DTSTART;TZID=UTC:20200401T090000
DTEND;TZID=UTC:20200401T150000
DTSTAMP:20260425T151640
CREATED:20200224T181329Z
LAST-MODIFIED:20200224T181523Z
UID:1754-1585731600-1585753200@themobilecprproject.com
SUMMARY:EM Research Day 2020
DESCRIPTION:
URL:https://themobilecprproject.com/event/em-research-day-2020/
END:VEVENT
BEGIN:VEVENT
DTSTART;TZID=UTC:20200331T190000
DTEND;TZID=UTC:20200331T210000
DTSTAMP:20260425T151640
CREATED:20200123T160524Z
LAST-MODIFIED:20200123T160524Z
UID:1464-1585681200-1585688400@themobilecprproject.com
SUMMARY:Franklin Institute "Night Skies in the Observatory"
DESCRIPTION:
URL:https://themobilecprproject.com/event/franklin-institute-night-skies-in-the-observatory/
END:VEVENT
BEGIN:VEVENT
DTSTART;TZID=UTC:20200331T180000
DTEND;TZID=UTC:20200331T190000
DTSTAMP:20260425T151640
CREATED:20200207T191717Z
LAST-MODIFIED:20200207T191717Z
UID:1702-1585677600-1585681200@themobilecprproject.com
SUMMARY:Penn Athletics (overflow class)
DESCRIPTION:
URL:https://themobilecprproject.com/event/penn-athletics-overflow-class/
END:VEVENT
BEGIN:VEVENT
DTSTART;TZID=UTC:20200330T110000
DTEND;TZID=UTC:20200330T123000
DTSTAMP:20260425T151640
CREATED:20200228T170431Z
LAST-MODIFIED:20200228T174616Z
UID:1760-1585566000-1585571400@themobilecprproject.com
SUMMARY:Community Health Promoter Training for Esperanza Health Center
DESCRIPTION:
URL:https://themobilecprproject.com/event/community-health-promoter-training-for-esperanza-health-center/
LOCATION:Community Heath Promoters\, 4417 N. 6th St\, Philadelphia\, PA\, 19140\, United States
END:VEVENT
BEGIN:VEVENT
DTSTART;TZID=UTC:20200327T123000
DTEND;TZID=UTC:20200327T133000
DTSTAMP:20260425T151640
CREATED:20200302T205909Z
LAST-MODIFIED:20200302T205909Z
UID:1767-1585312200-1585315800@themobilecprproject.com
SUMMARY:Kelley Jasons McGowan Spinelli Hanna & Reber\, LLP
DESCRIPTION:
URL:https://themobilecprproject.com/event/kelley-jasons-mcgowan-spinelli-hanna-reber-llp/
LOCATION:Kelley Jasons McGowan Spinelli Hanna & Reber\, LLP\, 1818 Market St\, Philadelphia\, PA\, 19103\, United States
END:VEVENT
BEGIN:VEVENT
DTSTART;TZID=UTC:20200325T180000
DTEND;TZID=UTC:20200325T190000
DTSTAMP:20260425T151640
CREATED:20200207T191633Z
LAST-MODIFIED:20200207T191633Z
UID:1699-1585159200-1585162800@themobilecprproject.com
SUMMARY:Penn Athletics
DESCRIPTION:
URL:https://themobilecprproject.com/event/penn-athletics-4/
END:VEVENT
BEGIN:VEVENT
DTSTART;TZID=UTC:20200325T113000
DTEND;TZID=UTC:20200325T130000
DTSTAMP:20260425T151640
CREATED:20200122T194636Z
LAST-MODIFIED:20200122T194801Z
UID:1385-1585135800-1585141200@themobilecprproject.com
SUMMARY:Temple University
DESCRIPTION:
URL:https://themobilecprproject.com/event/temple-university/
LOCATION:Temple University\, 1801 N Broad St\, Philadelphia\, PA\, 19122\, United States
END:VEVENT
BEGIN:VEVENT
DTSTART;TZID=UTC:20200325T080000
DTEND;TZID=UTC:20200325T170000
DTSTAMP:20260425T151640
CREATED:20200122T194856Z
LAST-MODIFIED:20200122T194856Z
UID:1390-1585123200-1585155600@themobilecprproject.com
SUMMARY:Philadelphia School District
DESCRIPTION:
URL:https://themobilecprproject.com/event/philadelphia-school-district-3/
LOCATION:Philadelphia School District\, 440 North Broad\, Philadelphia\, PA\, 19130\, United States
END:VEVENT
BEGIN:VEVENT
DTSTART;TZID=UTC:20200324T180000
DTEND;TZID=UTC:20200324T190000
DTSTAMP:20260425T151640
CREATED:20200131T163824Z
LAST-MODIFIED:20200131T163824Z
UID:1639-1585072800-1585076400@themobilecprproject.com
SUMMARY:Puentes De Salud
DESCRIPTION:
URL:https://themobilecprproject.com/event/puentes-de-salud-3/
END:VEVENT
BEGIN:VEVENT
DTSTART;TZID=UTC:20200324T120000
DTEND;TZID=UTC:20200324T133000
DTSTAMP:20260425T151640
CREATED:20200207T191602Z
LAST-MODIFIED:20200207T191602Z
UID:1696-1585051200-1585056600@themobilecprproject.com
SUMMARY:Penn Athletics
DESCRIPTION:
URL:https://themobilecprproject.com/event/penn-athletics-3/
END:VEVENT
BEGIN:VEVENT
DTSTART;TZID=UTC:20200318T180000
DTEND;TZID=UTC:20200318T190000
DTSTAMP:20260425T151640
CREATED:20200207T191523Z
LAST-MODIFIED:20200207T191523Z
UID:1693-1584554400-1584558000@themobilecprproject.com
SUMMARY:Penn Athletics
DESCRIPTION:
URL:https://themobilecprproject.com/event/penn-athletics-2/
END:VEVENT
BEGIN:VEVENT
DTSTART;TZID=UTC:20200318T120000
DTEND;TZID=UTC:20200318T133000
DTSTAMP:20260425T151640
CREATED:20200207T191448Z
LAST-MODIFIED:20200207T191448Z
UID:1690-1584532800-1584538200@themobilecprproject.com
SUMMARY:Penn Athletics
DESCRIPTION:
URL:https://themobilecprproject.com/event/penn-athletics/
END:VEVENT
BEGIN:VEVENT
DTSTART;TZID=UTC:20200317T180000
DTEND;TZID=UTC:20200317T190000
DTSTAMP:20260425T151640
CREATED:20200131T163755Z
LAST-MODIFIED:20200131T163755Z
UID:1636-1584468000-1584471600@themobilecprproject.com
SUMMARY:Puentes De Salud
DESCRIPTION:
URL:https://themobilecprproject.com/event/puentes-de-salud-2/
END:VEVENT
BEGIN:VEVENT
DTSTART;TZID=UTC:20200311T170000
DTEND;TZID=UTC:20200311T180000
DTSTAMP:20260425T151640
CREATED:20200122T195009Z
LAST-MODIFIED:20200122T195009Z
UID:1393-1583946000-1583949600@themobilecprproject.com
SUMMARY:Temple Uni - AMSA Chapter
DESCRIPTION:
URL:https://themobilecprproject.com/event/temple-uni-amsa-chapter/
LOCATION:Temple University\, 1801 N Broad St\, Philadelphia\, PA\, 19122\, United States
END:VEVENT
BEGIN:VEVENT
DTSTART;TZID=UTC:20200311T110000
DTEND;TZID=UTC:20200311T140000
DTSTAMP:20260425T151640
CREATED:20200213T153110Z
LAST-MODIFIED:20200213T153110Z
UID:1730-1583924400-1583935200@themobilecprproject.com
SUMMARY:Penn CEQI patient Safety Fair - Perelman Center
DESCRIPTION:
URL:https://themobilecprproject.com/event/penn-ceqi-patient-safety-fair-perelman-center/
END:VEVENT
BEGIN:VEVENT
DTSTART;TZID=UTC:20200310T180000
DTEND;TZID=UTC:20200310T190000
DTSTAMP:20260425T151640
CREATED:20200131T163725Z
LAST-MODIFIED:20200131T163725Z
UID:1633-1583863200-1583866800@themobilecprproject.com
SUMMARY:Puentes De Salud
DESCRIPTION:
URL:https://themobilecprproject.com/event/puentes-de-salud/
END:VEVENT
END:VCALENDAR