BEGIN:VCALENDAR
VERSION:2.0
PRODID:-//MOBILE CPR - ECPv5.14.1//NONSGML v1.0//EN
CALSCALE:GREGORIAN
METHOD:PUBLISH
X-WR-CALNAME:MOBILE CPR
X-ORIGINAL-URL:https://themobilecprproject.com
X-WR-CALDESC:Events for MOBILE CPR
REFRESH-INTERVAL;VALUE=DURATION:PT1H
X-Robots-Tag:noindex
X-PUBLISHED-TTL:PT1H
BEGIN:VTIMEZONE
TZID:UTC
BEGIN:STANDARD
TZOFFSETFROM:+0000
TZOFFSETTO:+0000
TZNAME:UTC
DTSTART:20250101T000000
END:STANDARD
END:VTIMEZONE
BEGIN:VEVENT
DTSTART;TZID=UTC:20250724T110000
DTEND;TZID=UTC:20250724T120000
DTSTAMP:20260425T114702
CREATED:20250616T125203Z
LAST-MODIFIED:20250616T125203Z
UID:3413-1753354800-1753358400@themobilecprproject.com
SUMMARY:Monell Center
DESCRIPTION:Not open to the public
URL:https://themobilecprproject.com/event/monell-center-2/
END:VEVENT
BEGIN:VEVENT
DTSTART;TZID=UTC:20250726T130000
DTEND;TZID=UTC:20250726T150000
DTSTAMP:20260425T114702
CREATED:20250616T125245Z
LAST-MODIFIED:20250616T125245Z
UID:3416-1753534800-1753542000@themobilecprproject.com
SUMMARY:Kingsessing Library
DESCRIPTION:Open to the public! \n1201 S. 51st St\, Philadelphia\, PA 19143
URL:https://themobilecprproject.com/event/kingsessing-library/
END:VEVENT
END:VCALENDAR