BEGIN:VCALENDAR
VERSION:2.0
PRODID:-//MOBILE CPR - ECPv5.14.1//NONSGML v1.0//EN
CALSCALE:GREGORIAN
METHOD:PUBLISH
X-WR-CALNAME:MOBILE CPR
X-ORIGINAL-URL:https://themobilecprproject.com
X-WR-CALDESC:Events for MOBILE CPR
REFRESH-INTERVAL;VALUE=DURATION:PT1H
X-Robots-Tag:noindex
X-PUBLISHED-TTL:PT1H
BEGIN:VTIMEZONE
TZID:UTC
BEGIN:STANDARD
TZOFFSETFROM:+0000
TZOFFSETTO:+0000
TZNAME:UTC
DTSTART:20250101T000000
END:STANDARD
END:VTIMEZONE
BEGIN:VEVENT
DTSTART;TZID=UTC:20250726T130000
DTEND;TZID=UTC:20250726T150000
DTSTAMP:20260423T213815
CREATED:20250616T125245Z
LAST-MODIFIED:20250616T125245Z
UID:3416-1753534800-1753542000@themobilecprproject.com
SUMMARY:Kingsessing Library
DESCRIPTION:Open to the public! \n1201 S. 51st St\, Philadelphia\, PA 19143
URL:https://themobilecprproject.com/event/kingsessing-library/
END:VEVENT
BEGIN:VEVENT
DTSTART;TZID=UTC:20250724T110000
DTEND;TZID=UTC:20250724T120000
DTSTAMP:20260423T213815
CREATED:20250616T125203Z
LAST-MODIFIED:20250616T125203Z
UID:3413-1753354800-1753358400@themobilecprproject.com
SUMMARY:Monell Center
DESCRIPTION:Not open to the public
URL:https://themobilecprproject.com/event/monell-center-2/
END:VEVENT
BEGIN:VEVENT
DTSTART;TZID=UTC:20250723T100000
DTEND;TZID=UTC:20250723T110000
DTSTAMP:20260423T213815
CREATED:20250616T125127Z
LAST-MODIFIED:20250616T125127Z
UID:3410-1753264800-1753268400@themobilecprproject.com
SUMMARY:Salvation Army - Roxborough Corps Ever Young Club
DESCRIPTION:Not open to the public
URL:https://themobilecprproject.com/event/salvation-army-roxborough-corps-ever-young-club/
END:VEVENT
BEGIN:VEVENT
DTSTART;TZID=UTC:20250716T183000
DTEND;TZID=UTC:20250716T193000
DTSTAMP:20260423T213815
CREATED:20250616T125050Z
LAST-MODIFIED:20250616T125050Z
UID:3407-1752690600-1752694200@themobilecprproject.com
SUMMARY:Haverford YMCA
DESCRIPTION:Open to the public! \n891 N Eagle Rd\, Havertown\, PA 19083
URL:https://themobilecprproject.com/event/haverford-ymca-11/
END:VEVENT
BEGIN:VEVENT
DTSTART;TZID=UTC:20250716T110000
DTEND;TZID=UTC:20250716T153000
DTSTAMP:20260423T213815
CREATED:20250616T125003Z
LAST-MODIFIED:20250616T125003Z
UID:3404-1752663600-1752679800@themobilecprproject.com
SUMMARY:Snider Youth Hockey Summer Camp
DESCRIPTION:Not open to the public
URL:https://themobilecprproject.com/event/snider-youth-hockey-summer-camp/
END:VEVENT
BEGIN:VEVENT
DTSTART;TZID=UTC:20250715T110000
DTEND;TZID=UTC:20250715T120000
DTSTAMP:20260423T213815
CREATED:20250616T124858Z
LAST-MODIFIED:20250616T124858Z
UID:3401-1752577200-1752580800@themobilecprproject.com
SUMMARY:Monell Center
DESCRIPTION:Not open to the public
URL:https://themobilecprproject.com/event/monell-center/
END:VEVENT
BEGIN:VEVENT
DTSTART;TZID=UTC:20250710T130000
DTEND;TZID=UTC:20250710T140000
DTSTAMP:20260423T213815
CREATED:20250616T124823Z
LAST-MODIFIED:20250616T124823Z
UID:3398-1752152400-1752156000@themobilecprproject.com
SUMMARY:Congreso - STEM into the Multiverse of You Summer Program
DESCRIPTION:Not open to the public
URL:https://themobilecprproject.com/event/congreso-stem-into-the-multiverse-of-you-summer-program/
END:VEVENT
BEGIN:VEVENT
DTSTART;TZID=UTC:20250710T100000
DTEND;TZID=UTC:20250710T113000
DTSTAMP:20260423T213815
CREATED:20250616T124744Z
LAST-MODIFIED:20250616T124744Z
UID:3395-1752141600-1752147000@themobilecprproject.com
SUMMARY:Scholars Advantage
DESCRIPTION:Not open to the public
URL:https://themobilecprproject.com/event/scholars-advantage/
END:VEVENT
BEGIN:VEVENT
DTSTART;TZID=UTC:20250628T110000
DTEND;TZID=UTC:20250628T150000
DTSTAMP:20260423T213815
CREATED:20250327T195853Z
LAST-MODIFIED:20250327T195853Z
UID:3274-1751108400-1751122800@themobilecprproject.com
SUMMARY:Get Healthy\, Philadelphia Health Screening Event
DESCRIPTION:Open to the public! \nWest Philadelphia High School\n4901 Chestnut St\, Philadelphia\, PA 19139
URL:https://themobilecprproject.com/event/get-healthy-philadelphia-health-screening-event/
END:VEVENT
BEGIN:VEVENT
DTSTART;TZID=UTC:20250624T110000
DTEND;TZID=UTC:20250624T120000
DTSTAMP:20260423T213815
CREATED:20250502T133015Z
LAST-MODIFIED:20250502T133015Z
UID:3377-1750762800-1750766400@themobilecprproject.com
SUMMARY:Fair Share Housing Development
DESCRIPTION:Not open to the public
URL:https://themobilecprproject.com/event/fair-share-housing-development/
END:VEVENT
BEGIN:VEVENT
DTSTART;TZID=UTC:20250618T183000
DTEND;TZID=UTC:20250618T193000
DTSTAMP:20260423T213815
CREATED:20250225T181522Z
LAST-MODIFIED:20250225T181522Z
UID:3245-1750271400-1750275000@themobilecprproject.com
SUMMARY:Haverford YMCA
DESCRIPTION:Open to the public! \n891 N Eagle Rd\, Havertown\, PA 19083
URL:https://themobilecprproject.com/event/haverford-ymca-10/
END:VEVENT
BEGIN:VEVENT
DTSTART;TZID=UTC:20250618T130000
DTEND;TZID=UTC:20250618T140000
DTSTAMP:20260423T213815
CREATED:20250225T181556Z
LAST-MODIFIED:20250225T181556Z
UID:3248-1750251600-1750255200@themobilecprproject.com
SUMMARY:Arch St UMC
DESCRIPTION:Open to the public! \n55 N Broad St\, Philadelphia\, PA 19107
URL:https://themobilecprproject.com/event/arch-st-umc/
END:VEVENT
BEGIN:VEVENT
DTSTART;TZID=UTC:20250611T113000
DTEND;TZID=UTC:20250611T123000
DTSTAMP:20260423T213815
CREATED:20250407T171915Z
LAST-MODIFIED:20250407T171915Z
UID:3314-1749641400-1749645000@themobilecprproject.com
SUMMARY:Golden Gem Senior Group - The Salvation Army
DESCRIPTION:Not open to the public
URL:https://themobilecprproject.com/event/golden-gem-senior-group-the-salvation-army/
END:VEVENT
BEGIN:VEVENT
DTSTART;TZID=UTC:20250610T150000
DTEND;TZID=UTC:20250610T170000
DTSTAMP:20260423T213815
CREATED:20250407T171836Z
LAST-MODIFIED:20250407T171836Z
UID:3311-1749567600-1749574800@themobilecprproject.com
SUMMARY:Lovetts Summer of Wonder Kickoff Party
DESCRIPTION:Open to the public! \n6945 Germantown Ave\, Philadelphia\, PA 19119
URL:https://themobilecprproject.com/event/lovetts-summer-of-wonder-kickoff-party/
END:VEVENT
BEGIN:VEVENT
DTSTART;TZID=UTC:20250610T110000
DTEND;TZID=UTC:20250610T130000
DTSTAMP:20260423T213815
CREATED:20250225T181446Z
LAST-MODIFIED:20250225T181446Z
UID:3242-1749553200-1749560400@themobilecprproject.com
SUMMARY:AlphaCare
DESCRIPTION:Not open to the public
URL:https://themobilecprproject.com/event/alphacare-2/
END:VEVENT
BEGIN:VEVENT
DTSTART;TZID=UTC:20250606T143000
DTEND;TZID=UTC:20250606T153000
DTSTAMP:20260423T213815
CREATED:20250225T181416Z
LAST-MODIFIED:20250225T181416Z
UID:3239-1749220200-1749223800@themobilecprproject.com
SUMMARY:Riverbend Environmental Education Center
DESCRIPTION:Not open to the public
URL:https://themobilecprproject.com/event/riverbend-environmental-education-center/
END:VEVENT
BEGIN:VEVENT
DTSTART;TZID=UTC:20250601T140000
DTEND;TZID=UTC:20250601T150000
DTSTAMP:20260423T213815
CREATED:20250225T181342Z
LAST-MODIFIED:20250225T181342Z
UID:3236-1748786400-1748790000@themobilecprproject.com
SUMMARY:Brewerytown Gardens
DESCRIPTION:Open to the public! \nMaster St & N 27th St\nPhiladelphia\, PA 19121
URL:https://themobilecprproject.com/event/brewerytown-gardens/
END:VEVENT
BEGIN:VEVENT
DTSTART;TZID=UTC:20250531T120000
DTEND;TZID=UTC:20250531T130000
DTSTAMP:20260423T213815
CREATED:20250428T195542Z
LAST-MODIFIED:20250428T195542Z
UID:3360-1748692800-1748696400@themobilecprproject.com
SUMMARY:Shalom Baptist Church
DESCRIPTION:Open to the public! \n4901 N 10th St\, Philadelphia\, PA 19141
URL:https://themobilecprproject.com/event/shalom-baptist-church/
END:VEVENT
BEGIN:VEVENT
DTSTART;TZID=UTC:20250531T100000
DTEND;TZID=UTC:20250531T110000
DTSTAMP:20260423T213815
CREATED:20250327T195710Z
LAST-MODIFIED:20250327T195710Z
UID:3271-1748685600-1748689200@themobilecprproject.com
SUMMARY:St. Matthew AME Church
DESCRIPTION:Open to the public! \n215 N 57th St\, Philadelphia\, PA 19139
URL:https://themobilecprproject.com/event/st-matthew-ame-church/
END:VEVENT
BEGIN:VEVENT
DTSTART;TZID=UTC:20250529T100000
DTEND;TZID=UTC:20250529T110000
DTSTAMP:20260423T213815
CREATED:20250428T195447Z
LAST-MODIFIED:20250428T195447Z
UID:3357-1748512800-1748516400@themobilecprproject.com
SUMMARY:Action Wellness
DESCRIPTION:Not open to the public
URL:https://themobilecprproject.com/event/action-wellness-4/
END:VEVENT
BEGIN:VEVENT
DTSTART;TZID=UTC:20250528T120000
DTEND;TZID=UTC:20250528T140000
DTSTAMP:20260423T213815
CREATED:20250403T174935Z
LAST-MODIFIED:20250428T195408Z
UID:3303-1748433600-1748440800@themobilecprproject.com
SUMMARY:Hune Inc
DESCRIPTION:Not open to the public
URL:https://themobilecprproject.com/event/hune-inc/
END:VEVENT
BEGIN:VEVENT
DTSTART;TZID=UTC:20250524T100000
DTEND;TZID=UTC:20250524T110000
DTSTAMP:20260423T213815
CREATED:20250428T195341Z
LAST-MODIFIED:20250428T195341Z
UID:3353-1748080800-1748084400@themobilecprproject.com
SUMMARY:Falls of Schuylkill Library
DESCRIPTION:Open to the public! \n3501 Midvale Ave\nPhiladelphia\, PA. 19129
URL:https://themobilecprproject.com/event/falls-of-schuylkill-library-2/
END:VEVENT
BEGIN:VEVENT
DTSTART;TZID=UTC:20250523T103000
DTEND;TZID=UTC:20250523T113000
DTSTAMP:20260423T213815
CREATED:20250428T195253Z
LAST-MODIFIED:20250428T195253Z
UID:3350-1747996200-1747999800@themobilecprproject.com
SUMMARY:Citadel Corps Community Center
DESCRIPTION:Open to the public! \n5830 Rising Sun Avenue\, Philadelphia\, Pa 19120
URL:https://themobilecprproject.com/event/citadel-corps-community-center/
END:VEVENT
BEGIN:VEVENT
DTSTART;TZID=UTC:20250521T183000
DTEND;TZID=UTC:20250521T193000
DTSTAMP:20260423T213815
CREATED:20250225T181155Z
LAST-MODIFIED:20250403T174037Z
UID:3230-1747852200-1747855800@themobilecprproject.com
SUMMARY:Haverford YMCA
DESCRIPTION:Open to the public! \n891 N Eagle Rd\, Havertown\, PA 19083
URL:https://themobilecprproject.com/event/haverford-ymca-9/
END:VEVENT
BEGIN:VEVENT
DTSTART;TZID=UTC:20250520T100000
DTEND;TZID=UTC:20250520T110000
DTSTAMP:20260423T213815
CREATED:20250428T195200Z
LAST-MODIFIED:20250428T195200Z
UID:3347-1747735200-1747738800@themobilecprproject.com
SUMMARY:Action Wellness
DESCRIPTION:Not open to the public
URL:https://themobilecprproject.com/event/action-wellness-3/
END:VEVENT
BEGIN:VEVENT
DTSTART;TZID=UTC:20250519T160000
DTEND;TZID=UTC:20250519T190000
DTSTAMP:20260423T213815
CREATED:20250430T185503Z
LAST-MODIFIED:20250430T185503Z
UID:3374-1747670400-1747681200@themobilecprproject.com
SUMMARY:Water Tower Rec Center
DESCRIPTION:Open to the public! \n209 E Hartwell Ln\, Philadelphia\, PA 19118
URL:https://themobilecprproject.com/event/water-tower-rec-center-4/
END:VEVENT
BEGIN:VEVENT
DTSTART;TZID=UTC:20250517T120000
DTEND;TZID=UTC:20250517T160000
DTSTAMP:20260423T213815
CREATED:20250225T181232Z
LAST-MODIFIED:20250225T181232Z
UID:3233-1747483200-1747497600@themobilecprproject.com
SUMMARY:2025 Community in Action Festival
DESCRIPTION:Open to the public! \nWhitby Park\, 1338 S 59th Street\, Philadelphia\, PA 19143
URL:https://themobilecprproject.com/event/2025-community-in-action-festival/
END:VEVENT
BEGIN:VEVENT
DTSTART;TZID=UTC:20250513T080000
DTEND;TZID=UTC:20250516T170000
DTSTAMP:20260423T213815
CREATED:20250403T174138Z
LAST-MODIFIED:20250403T174138Z
UID:3300-1747123200-1747414800@themobilecprproject.com
SUMMARY:SAEM Scientific Conference
DESCRIPTION:Not open to the public
URL:https://themobilecprproject.com/event/saem-scientific-conference/
END:VEVENT
BEGIN:VEVENT
DTSTART;TZID=UTC:20250510T130000
DTEND;TZID=UTC:20250510T150000
DTSTAMP:20260423T213815
CREATED:20250430T185404Z
LAST-MODIFIED:20250430T185404Z
UID:3371-1746882000-1746889200@themobilecprproject.com
SUMMARY:Water Tower Rec Center
DESCRIPTION:Open to the public! \n209 E Hartwell Ln\, Philadelphia\, PA 19118
URL:https://themobilecprproject.com/event/water-tower-rec-center-3/
END:VEVENT
BEGIN:VEVENT
DTSTART;TZID=UTC:20250510T110000
DTEND;TZID=UTC:20250510T123000
DTSTAMP:20260423T213815
CREATED:20250225T181121Z
LAST-MODIFIED:20250225T181121Z
UID:3227-1746874800-1746880200@themobilecprproject.com
SUMMARY:Cancer Support Community Greater Philadelphia
DESCRIPTION:Open to the public! \n4100 Chamounix Drive\, Philadelphia\, PA 19131
URL:https://themobilecprproject.com/event/cancer-support-community-greater-philadelphia-2/
END:VEVENT
END:VCALENDAR