BEGIN:VCALENDAR
VERSION:2.0
PRODID:-//MOBILE CPR - ECPv5.14.1//NONSGML v1.0//EN
CALSCALE:GREGORIAN
METHOD:PUBLISH
X-WR-CALNAME:MOBILE CPR
X-ORIGINAL-URL:https://themobilecprproject.com
X-WR-CALDESC:Events for MOBILE CPR
REFRESH-INTERVAL;VALUE=DURATION:PT1H
X-Robots-Tag:noindex
X-PUBLISHED-TTL:PT1H
BEGIN:VTIMEZONE
TZID:UTC
BEGIN:STANDARD
TZOFFSETFROM:+0000
TZOFFSETTO:+0000
TZNAME:UTC
DTSTART:20250101T000000
END:STANDARD
END:VTIMEZONE
BEGIN:VEVENT
DTSTART;TZID=UTC:20250505T160000
DTEND;TZID=UTC:20250505T190000
DTSTAMP:20260424T114929
CREATED:20250430T185311Z
LAST-MODIFIED:20250430T185311Z
UID:3365-1746460800-1746471600@themobilecprproject.com
SUMMARY:Water Tower Rec Center
DESCRIPTION:Open to the public! \n209 E Hartwell Ln\, Philadelphia\, PA 19118
URL:https://themobilecprproject.com/event/water-tower-rec-center/
END:VEVENT
END:VCALENDAR