BEGIN:VCALENDAR
VERSION:2.0
PRODID:-//MOBILE CPR - ECPv5.14.1//NONSGML v1.0//EN
CALSCALE:GREGORIAN
METHOD:PUBLISH
X-WR-CALNAME:MOBILE CPR
X-ORIGINAL-URL:https://themobilecprproject.com
X-WR-CALDESC:Events for MOBILE CPR
REFRESH-INTERVAL;VALUE=DURATION:PT1H
X-Robots-Tag:noindex
X-PUBLISHED-TTL:PT1H
BEGIN:VTIMEZONE
TZID:UTC
BEGIN:STANDARD
TZOFFSETFROM:+0000
TZOFFSETTO:+0000
TZNAME:UTC
DTSTART:20250101T000000
END:STANDARD
END:VTIMEZONE
BEGIN:VEVENT
DTSTART;TZID=UTC:20250419T120000
DTEND;TZID=UTC:20250419T140000
DTSTAMP:20260424T114935
CREATED:20250312T164728Z
LAST-MODIFIED:20250312T165141Z
UID:3257-1745064000-1745071200@themobilecprproject.com
SUMMARY:Greater Philadelphia Community Alliance - Community Baby Shower
DESCRIPTION:Open to the public! \nWhite Rock Baptist Church\n5240 Chestnut Street\nPhiladelphia\, PA 19139
URL:https://themobilecprproject.com/event/greater-philadelphia-community-alliance-community-baby-shower/
END:VEVENT
END:VCALENDAR