BEGIN:VCALENDAR
VERSION:2.0
PRODID:-//MOBILE CPR - ECPv5.14.1//NONSGML v1.0//EN
CALSCALE:GREGORIAN
METHOD:PUBLISH
X-WR-CALNAME:MOBILE CPR
X-ORIGINAL-URL:https://themobilecprproject.com
X-WR-CALDESC:Events for MOBILE CPR
REFRESH-INTERVAL;VALUE=DURATION:PT1H
X-Robots-Tag:noindex
X-PUBLISHED-TTL:PT1H
BEGIN:VTIMEZONE
TZID:UTC
BEGIN:STANDARD
TZOFFSETFROM:+0000
TZOFFSETTO:+0000
TZNAME:UTC
DTSTART:20250101T000000
END:STANDARD
END:VTIMEZONE
BEGIN:VEVENT
DTSTART;TZID=UTC:20250301T110000
DTEND;TZID=UTC:20250301T130000
DTSTAMP:20260424T132959
CREATED:20250220T181541Z
LAST-MODIFIED:20250220T181541Z
UID:3178-1740826800-1740834000@themobilecprproject.com
SUMMARY:Spectrum Health
DESCRIPTION:Open to the public! \n5201 Haverford Ave\, Philadelphia\, PA 19139
URL:https://themobilecprproject.com/event/spectrum-health/
END:VEVENT
BEGIN:VEVENT
DTSTART;TZID=UTC:20250301T140000
DTEND;TZID=UTC:20250301T160000
DTSTAMP:20260424T132959
CREATED:20250220T181503Z
LAST-MODIFIED:20250220T181503Z
UID:3175-1740837600-1740844800@themobilecprproject.com
SUMMARY:Walnut Street West Library
DESCRIPTION:Open to the public! \n201 S 40th St
URL:https://themobilecprproject.com/event/walnut-street-west-library/
END:VEVENT
END:VCALENDAR