BEGIN:VCALENDAR
VERSION:2.0
PRODID:-//MOBILE CPR - ECPv5.14.1//NONSGML v1.0//EN
CALSCALE:GREGORIAN
METHOD:PUBLISH
X-WR-CALNAME:MOBILE CPR
X-ORIGINAL-URL:https://themobilecprproject.com
X-WR-CALDESC:Events for MOBILE CPR
REFRESH-INTERVAL;VALUE=DURATION:PT1H
X-Robots-Tag:noindex
X-PUBLISHED-TTL:PT1H
BEGIN:VTIMEZONE
TZID:UTC
BEGIN:STANDARD
TZOFFSETFROM:+0000
TZOFFSETTO:+0000
TZNAME:UTC
DTSTART:20250101T000000
END:STANDARD
END:VTIMEZONE
BEGIN:VEVENT
DTSTART;TZID=UTC:20250226T080000
DTEND;TZID=UTC:20250226T153000
DTSTAMP:20260424T133000
CREATED:20250210T135346Z
LAST-MODIFIED:20250210T135346Z
UID:3164-1740556800-1740583800@themobilecprproject.com
SUMMARY:Science Leadership Academy at Beeber
DESCRIPTION:Not open to the public
URL:https://themobilecprproject.com/event/science-leadership-academy-at-beeber/
END:VEVENT
END:VCALENDAR