BEGIN:VCALENDAR
VERSION:2.0
PRODID:-//MOBILE CPR - ECPv5.14.1//NONSGML v1.0//EN
CALSCALE:GREGORIAN
METHOD:PUBLISH
X-WR-CALNAME:MOBILE CPR
X-ORIGINAL-URL:https://themobilecprproject.com
X-WR-CALDESC:Events for MOBILE CPR
REFRESH-INTERVAL;VALUE=DURATION:PT1H
X-Robots-Tag:noindex
X-PUBLISHED-TTL:PT1H
BEGIN:VTIMEZONE
TZID:UTC
BEGIN:STANDARD
TZOFFSETFROM:+0000
TZOFFSETTO:+0000
TZNAME:UTC
DTSTART:20240101T000000
END:STANDARD
END:VTIMEZONE
BEGIN:VEVENT
DTSTART;TZID=UTC:20241029T093000
DTEND;TZID=UTC:20241029T103000
DTSTAMP:20260424T183253
CREATED:20240913T174340Z
LAST-MODIFIED:20240913T174340Z
UID:3025-1730194200-1730197800@themobilecprproject.com
SUMMARY:Office of Homeless Services
DESCRIPTION:Not open to the public
URL:https://themobilecprproject.com/event/office-of-homeless-services/
END:VEVENT
BEGIN:VEVENT
DTSTART;TZID=UTC:20241029T110000
DTEND;TZID=UTC:20241029T130000
DTSTAMP:20260424T183253
CREATED:20241004T134412Z
LAST-MODIFIED:20241004T134412Z
UID:3054-1730199600-1730206800@themobilecprproject.com
SUMMARY:Baby Shower - Catholic Social Services - The Northeast Family Service Center
DESCRIPTION:Open to the public! \n7340 Jackson Street Philadelphia\, Pa 19136
URL:https://themobilecprproject.com/event/baby-shower-catholic-social-services-the-northeast-family-service-center/
END:VEVENT
END:VCALENDAR