BEGIN:VCALENDAR
VERSION:2.0
PRODID:-//MOBILE CPR - ECPv5.14.1//NONSGML v1.0//EN
CALSCALE:GREGORIAN
METHOD:PUBLISH
X-WR-CALNAME:MOBILE CPR
X-ORIGINAL-URL:https://themobilecprproject.com
X-WR-CALDESC:Events for MOBILE CPR
REFRESH-INTERVAL;VALUE=DURATION:PT1H
X-Robots-Tag:noindex
X-PUBLISHED-TTL:PT1H
BEGIN:VTIMEZONE
TZID:UTC
BEGIN:STANDARD
TZOFFSETFROM:+0000
TZOFFSETTO:+0000
TZNAME:UTC
DTSTART:20240101T000000
END:STANDARD
END:VTIMEZONE
BEGIN:VEVENT
DTSTART;TZID=UTC:20240921T090000
DTEND;TZID=UTC:20240921T130000
DTSTAMP:20260424T210547
CREATED:20240913T172950Z
LAST-MODIFIED:20240913T172950Z
UID:2991-1726909200-1726923600@themobilecprproject.com
SUMMARY:Grace Tabernacle Christian Church Health Day
DESCRIPTION:Open to the public! \n5124 Greenway Avenue Philadelphia\, PA 19143
URL:https://themobilecprproject.com/event/grace-tabernacle-christian-church-health-day/
END:VEVENT
END:VCALENDAR