BEGIN:VCALENDAR
VERSION:2.0
PRODID:-//MOBILE CPR - ECPv5.14.1//NONSGML v1.0//EN
CALSCALE:GREGORIAN
METHOD:PUBLISH
X-WR-CALNAME:MOBILE CPR
X-ORIGINAL-URL:https://themobilecprproject.com
X-WR-CALDESC:Events for MOBILE CPR
REFRESH-INTERVAL;VALUE=DURATION:PT1H
X-Robots-Tag:noindex
X-PUBLISHED-TTL:PT1H
BEGIN:VTIMEZONE
TZID:UTC
BEGIN:STANDARD
TZOFFSETFROM:+0000
TZOFFSETTO:+0000
TZNAME:UTC
DTSTART:20240101T000000
END:STANDARD
END:VTIMEZONE
BEGIN:VEVENT
DTSTART;TZID=UTC:20240920T090000
DTEND;TZID=UTC:20240920T120000
DTSTAMP:20260424T210545
CREATED:20240913T172916Z
LAST-MODIFIED:20240913T172916Z
UID:2988-1726822800-1726833600@themobilecprproject.com
SUMMARY:Philadelphia Industrial Correctional Center
DESCRIPTION:Not open to the public \n 
URL:https://themobilecprproject.com/event/philadelphia-industrial-correctional-center/
END:VEVENT
END:VCALENDAR