BEGIN:VCALENDAR
VERSION:2.0
PRODID:-//MOBILE CPR - ECPv5.14.1//NONSGML v1.0//EN
CALSCALE:GREGORIAN
METHOD:PUBLISH
X-WR-CALNAME:MOBILE CPR
X-ORIGINAL-URL:https://themobilecprproject.com
X-WR-CALDESC:Events for MOBILE CPR
REFRESH-INTERVAL;VALUE=DURATION:PT1H
X-Robots-Tag:noindex
X-PUBLISHED-TTL:PT1H
BEGIN:VTIMEZONE
TZID:UTC
BEGIN:STANDARD
TZOFFSETFROM:+0000
TZOFFSETTO:+0000
TZNAME:UTC
DTSTART:20240101T000000
END:STANDARD
END:VTIMEZONE
BEGIN:VEVENT
DTSTART;TZID=UTC:20240821T103000
DTEND;TZID=UTC:20240821T113000
DTSTAMP:20260424T221016
CREATED:20240815T180351Z
LAST-MODIFIED:20240815T180351Z
UID:2945-1724236200-1724239800@themobilecprproject.com
SUMMARY:Casa del Carmen
DESCRIPTION:Not open to the public
URL:https://themobilecprproject.com/event/casa-del-carmen/
END:VEVENT
BEGIN:VEVENT
DTSTART;TZID=UTC:20240821T130000
DTEND;TZID=UTC:20240821T140000
DTSTAMP:20260424T221016
CREATED:20240815T185146Z
LAST-MODIFIED:20240815T185146Z
UID:2948-1724245200-1724248800@themobilecprproject.com
SUMMARY:Philadelphia Union
DESCRIPTION:Not open to the public
URL:https://themobilecprproject.com/event/philadelphia-union/
END:VEVENT
END:VCALENDAR