BEGIN:VCALENDAR
VERSION:2.0
PRODID:-//MOBILE CPR - ECPv5.14.1//NONSGML v1.0//EN
CALSCALE:GREGORIAN
METHOD:PUBLISH
X-WR-CALNAME:MOBILE CPR
X-ORIGINAL-URL:https://themobilecprproject.com
X-WR-CALDESC:Events for MOBILE CPR
REFRESH-INTERVAL;VALUE=DURATION:PT1H
X-Robots-Tag:noindex
X-PUBLISHED-TTL:PT1H
BEGIN:VTIMEZONE
TZID:UTC
BEGIN:STANDARD
TZOFFSETFROM:+0000
TZOFFSETTO:+0000
TZNAME:UTC
DTSTART:20240101T000000
END:STANDARD
END:VTIMEZONE
BEGIN:VEVENT
DTSTART;TZID=UTC:20240629T110000
DTEND;TZID=UTC:20240629T140000
DTSTAMP:20260425T004011
CREATED:20240513T125449Z
LAST-MODIFIED:20240513T125449Z
UID:2873-1719658800-1719669600@themobilecprproject.com
SUMMARY:Gun Violence Awareness Block Party
DESCRIPTION:Open to the public! \nBelfield Rec Center 2109 W Chew Ave\, Philadelphia\, PA 19138
URL:https://themobilecprproject.com/event/gun-violence-awareness-block-party/
END:VEVENT
END:VCALENDAR