BEGIN:VCALENDAR
VERSION:2.0
PRODID:-//MOBILE CPR - ECPv5.14.1//NONSGML v1.0//EN
CALSCALE:GREGORIAN
METHOD:PUBLISH
X-WR-CALNAME:MOBILE CPR
X-ORIGINAL-URL:https://themobilecprproject.com
X-WR-CALDESC:Events for MOBILE CPR
REFRESH-INTERVAL;VALUE=DURATION:PT1H
X-Robots-Tag:noindex
X-PUBLISHED-TTL:PT1H
BEGIN:VTIMEZONE
TZID:UTC
BEGIN:STANDARD
TZOFFSETFROM:+0000
TZOFFSETTO:+0000
TZNAME:UTC
DTSTART:20240101T000000
END:STANDARD
END:VTIMEZONE
BEGIN:VEVENT
DTSTART;TZID=UTC:20240625T110000
DTEND;TZID=UTC:20240625T130000
DTSTAMP:20260425T140925
CREATED:20240610T203751Z
LAST-MODIFIED:20240610T203751Z
UID:2885-1719313200-1719320400@themobilecprproject.com
SUMMARY:AlphaCare Mom's Group
DESCRIPTION:Not open to the public
URL:https://themobilecprproject.com/event/alphacare-moms-group/
END:VEVENT
END:VCALENDAR