BEGIN:VCALENDAR
VERSION:2.0
PRODID:-//MOBILE CPR - ECPv5.14.1//NONSGML v1.0//EN
CALSCALE:GREGORIAN
METHOD:PUBLISH
X-WR-CALNAME:MOBILE CPR
X-ORIGINAL-URL:https://themobilecprproject.com
X-WR-CALDESC:Events for MOBILE CPR
REFRESH-INTERVAL;VALUE=DURATION:PT1H
X-Robots-Tag:noindex
X-PUBLISHED-TTL:PT1H
BEGIN:VTIMEZONE
TZID:UTC
BEGIN:STANDARD
TZOFFSETFROM:+0000
TZOFFSETTO:+0000
TZNAME:UTC
DTSTART:20240101T000000
END:STANDARD
END:VTIMEZONE
BEGIN:VEVENT
DTSTART;TZID=UTC:20240622T110000
DTEND;TZID=UTC:20240622T120000
DTSTAMP:20260425T140916
CREATED:20240513T125350Z
LAST-MODIFIED:20240513T125350Z
UID:2870-1719054000-1719057600@themobilecprproject.com
SUMMARY:CEC Programs
DESCRIPTION:Open to the public! \n3500 Lancaster Avenue Phila.\, PA 19104
URL:https://themobilecprproject.com/event/cec-programs/
END:VEVENT
BEGIN:VEVENT
DTSTART;TZID=UTC:20240622T150000
DTEND;TZID=UTC:20240622T160000
DTSTAMP:20260425T140916
CREATED:20240513T125301Z
LAST-MODIFIED:20240513T125301Z
UID:2867-1719068400-1719072000@themobilecprproject.com
SUMMARY:Southwest Philadelphia SDA Church
DESCRIPTION:Open to the public! \n1220 S 58th St\, Philadelphia\, PA 19143
URL:https://themobilecprproject.com/event/southwest-philadelphia-sda-church/
END:VEVENT
END:VCALENDAR