BEGIN:VCALENDAR
VERSION:2.0
PRODID:-//MOBILE CPR - ECPv5.14.1//NONSGML v1.0//EN
CALSCALE:GREGORIAN
METHOD:PUBLISH
X-WR-CALNAME:MOBILE CPR
X-ORIGINAL-URL:https://themobilecprproject.com
X-WR-CALDESC:Events for MOBILE CPR
REFRESH-INTERVAL;VALUE=DURATION:PT1H
X-Robots-Tag:noindex
X-PUBLISHED-TTL:PT1H
BEGIN:VTIMEZONE
TZID:UTC
BEGIN:STANDARD
TZOFFSETFROM:+0000
TZOFFSETTO:+0000
TZNAME:UTC
DTSTART:20240101T000000
END:STANDARD
END:VTIMEZONE
BEGIN:VEVENT
DTSTART;TZID=UTC:20240612T100000
DTEND;TZID=UTC:20240612T130000
DTSTAMP:20260425T140926
CREATED:20240503T135222Z
LAST-MODIFIED:20240503T135222Z
UID:2850-1718186400-1718197200@themobilecprproject.com
SUMMARY:Health Screening Event with the Philadelphia NAACP and Rep. Anthony Bellmon
DESCRIPTION:Open to the public! \n5500 Langdon St\, Philadelphia\, PA 19124
URL:https://themobilecprproject.com/event/health-screening-event-with-the-philadelphia-naacp-and-rep-anthony-bellmon/
END:VEVENT
BEGIN:VEVENT
DTSTART;TZID=UTC:20240612T150000
DTEND;TZID=UTC:20240612T160000
DTSTAMP:20260425T140926
CREATED:20240503T135138Z
LAST-MODIFIED:20240503T135138Z
UID:2847-1718204400-1718208000@themobilecprproject.com
SUMMARY:Lutheran Settlement House
DESCRIPTION:Open to the public! \n1340 Frankford Ave\, Philadelphia\, PA 19125
URL:https://themobilecprproject.com/event/lutheran-settlement-house-2/
END:VEVENT
END:VCALENDAR