BEGIN:VCALENDAR
VERSION:2.0
PRODID:-//MOBILE CPR - ECPv5.14.1//NONSGML v1.0//EN
CALSCALE:GREGORIAN
METHOD:PUBLISH
X-WR-CALNAME:MOBILE CPR
X-ORIGINAL-URL:https://themobilecprproject.com
X-WR-CALDESC:Events for MOBILE CPR
REFRESH-INTERVAL;VALUE=DURATION:PT1H
X-Robots-Tag:noindex
X-PUBLISHED-TTL:PT1H
BEGIN:VTIMEZONE
TZID:UTC
BEGIN:STANDARD
TZOFFSETFROM:+0000
TZOFFSETTO:+0000
TZNAME:UTC
DTSTART:20240101T000000
END:STANDARD
END:VTIMEZONE
BEGIN:VEVENT
DTSTART;TZID=UTC:20240611T100000
DTEND;TZID=UTC:20240611T110000
DTSTAMP:20260425T140925
CREATED:20240503T135055Z
LAST-MODIFIED:20240503T135055Z
UID:2844-1718100000-1718103600@themobilecprproject.com
SUMMARY:Parkway Central Library
DESCRIPTION:Open to the public! \n1901 Vine St
URL:https://themobilecprproject.com/event/parkway-central-library-2/
END:VEVENT
BEGIN:VEVENT
DTSTART;TZID=UTC:20240611T190000
DTEND;TZID=UTC:20240611T200000
DTSTAMP:20260425T140925
CREATED:20240513T125638Z
LAST-MODIFIED:20240513T125638Z
UID:2876-1718132400-1718136000@themobilecprproject.com
SUMMARY:NLNA Community Center
DESCRIPTION:Open to the public! \n700 N 3rd St\, Philadelphia\, PA 19123
URL:https://themobilecprproject.com/event/nlna-community-center-2/
END:VEVENT
END:VCALENDAR