BEGIN:VCALENDAR
VERSION:2.0
PRODID:-//MOBILE CPR - ECPv5.14.1//NONSGML v1.0//EN
CALSCALE:GREGORIAN
METHOD:PUBLISH
X-WR-CALNAME:MOBILE CPR
X-ORIGINAL-URL:https://themobilecprproject.com
X-WR-CALDESC:Events for MOBILE CPR
REFRESH-INTERVAL;VALUE=DURATION:PT1H
X-Robots-Tag:noindex
X-PUBLISHED-TTL:PT1H
BEGIN:VTIMEZONE
TZID:UTC
BEGIN:STANDARD
TZOFFSETFROM:+0000
TZOFFSETTO:+0000
TZNAME:UTC
DTSTART:20240101T000000
END:STANDARD
END:VTIMEZONE
BEGIN:VEVENT
DTSTART;TZID=UTC:20240610T140000
DTEND;TZID=UTC:20240610T150000
DTSTAMP:20260425T140927
CREATED:20240513T125059Z
LAST-MODIFIED:20240513T125059Z
UID:2861-1718028000-1718031600@themobilecprproject.com
SUMMARY:Lutheran Settlement House
DESCRIPTION:Open to the public! \nJane Addams Place 1007 W Lehigh Ave\, Philadelphia\, PA 19133
URL:https://themobilecprproject.com/event/lutheran-settlement-house-3/
END:VEVENT
END:VCALENDAR