BEGIN:VCALENDAR
VERSION:2.0
PRODID:-//MOBILE CPR - ECPv5.14.1//NONSGML v1.0//EN
CALSCALE:GREGORIAN
METHOD:PUBLISH
X-WR-CALNAME:MOBILE CPR
X-ORIGINAL-URL:https://themobilecprproject.com
X-WR-CALDESC:Events for MOBILE CPR
REFRESH-INTERVAL;VALUE=DURATION:PT1H
X-Robots-Tag:noindex
X-PUBLISHED-TTL:PT1H
BEGIN:VTIMEZONE
TZID:UTC
BEGIN:STANDARD
TZOFFSETFROM:+0000
TZOFFSETTO:+0000
TZNAME:UTC
DTSTART:20240101T000000
END:STANDARD
END:VTIMEZONE
BEGIN:VEVENT
DTSTART;TZID=UTC:20240523T103000
DTEND;TZID=UTC:20240523T113000
DTSTAMP:20260425T152620
CREATED:20240503T133202Z
LAST-MODIFIED:20240503T133202Z
UID:2826-1716460200-1716463800@themobilecprproject.com
SUMMARY:Fabric Workshop and Museum
DESCRIPTION:Not open to the public
URL:https://themobilecprproject.com/event/fabric-workshop-and-museum/
END:VEVENT
END:VCALENDAR