BEGIN:VCALENDAR
VERSION:2.0
PRODID:-//MOBILE CPR - ECPv5.14.1//NONSGML v1.0//EN
CALSCALE:GREGORIAN
METHOD:PUBLISH
X-WR-CALNAME:MOBILE CPR
X-ORIGINAL-URL:https://themobilecprproject.com
X-WR-CALDESC:Events for MOBILE CPR
REFRESH-INTERVAL;VALUE=DURATION:PT1H
X-Robots-Tag:noindex
X-PUBLISHED-TTL:PT1H
BEGIN:VTIMEZONE
TZID:UTC
BEGIN:STANDARD
TZOFFSETFROM:+0000
TZOFFSETTO:+0000
TZNAME:UTC
DTSTART:20240101T000000
END:STANDARD
END:VTIMEZONE
BEGIN:VEVENT
DTSTART;TZID=UTC:20240416T180000
DTEND;TZID=UTC:20240416T190000
DTSTAMP:20260425T171030
CREATED:20240408T124619Z
LAST-MODIFIED:20240408T124619Z
UID:2701-1713290400-1713294000@themobilecprproject.com
SUMMARY:Spring Valley YMCA
DESCRIPTION:Open to the public! \n19 W Linfield Trappe Road
URL:https://themobilecprproject.com/event/spring-valley-ymca-4/
END:VEVENT
END:VCALENDAR