BEGIN:VCALENDAR
VERSION:2.0
PRODID:-//MOBILE CPR - ECPv5.14.1//NONSGML v1.0//EN
CALSCALE:GREGORIAN
METHOD:PUBLISH
X-WR-CALNAME:MOBILE CPR
X-ORIGINAL-URL:https://themobilecprproject.com
X-WR-CALDESC:Events for MOBILE CPR
REFRESH-INTERVAL;VALUE=DURATION:PT1H
X-Robots-Tag:noindex
X-PUBLISHED-TTL:PT1H
BEGIN:VTIMEZONE
TZID:UTC
BEGIN:STANDARD
TZOFFSETFROM:+0000
TZOFFSETTO:+0000
TZNAME:UTC
DTSTART:20240101T000000
END:STANDARD
END:VTIMEZONE
BEGIN:VEVENT
DTSTART;TZID=UTC:20240222T090000
DTEND;TZID=UTC:20240222T140000
DTSTAMP:20260425T200517
CREATED:20240129T191043Z
LAST-MODIFIED:20240129T191043Z
UID:2432-1708592400-1708610400@themobilecprproject.com
SUMMARY:Museum of Art
DESCRIPTION:Not open to the public
URL:https://themobilecprproject.com/event/museum-of-art-3/
END:VEVENT
BEGIN:VEVENT
DTSTART;TZID=UTC:20240222T153000
DTEND;TZID=UTC:20240222T163000
DTSTAMP:20260425T200517
CREATED:20240129T191002Z
LAST-MODIFIED:20240129T191002Z
UID:2429-1708615800-1708619400@themobilecprproject.com
SUMMARY:Rebuild Philadelphia
DESCRIPTION:Not open to the public
URL:https://themobilecprproject.com/event/rebuild-philadelphia/
END:VEVENT
END:VCALENDAR