BEGIN:VCALENDAR
VERSION:2.0
PRODID:-//MOBILE CPR - ECPv5.14.1//NONSGML v1.0//EN
CALSCALE:GREGORIAN
METHOD:PUBLISH
X-WR-CALNAME:MOBILE CPR
X-ORIGINAL-URL:https://themobilecprproject.com
X-WR-CALDESC:Events for MOBILE CPR
REFRESH-INTERVAL;VALUE=DURATION:PT1H
X-Robots-Tag:noindex
X-PUBLISHED-TTL:PT1H
BEGIN:VTIMEZONE
TZID:UTC
BEGIN:STANDARD
TZOFFSETFROM:+0000
TZOFFSETTO:+0000
TZNAME:UTC
DTSTART:20240101T000000
END:STANDARD
END:VTIMEZONE
BEGIN:VEVENT
DTSTART;TZID=UTC:20240216T130000
DTEND;TZID=UTC:20240216T140000
DTSTAMP:20260425T200236
CREATED:20231211T133553Z
LAST-MODIFIED:20231211T133602Z
UID:2346-1708088400-1708092000@themobilecprproject.com
SUMMARY:Firehouse Active Adult Center
DESCRIPTION:Open to the public! \n5331 Haverford Ave
URL:https://themobilecprproject.com/event/firehouse-active-adult-center-2/
END:VEVENT
END:VCALENDAR